BEGIN:VCALENDAR
VERSION:2.0
PRODID:-//Vancouver Island Regional Library - ECPv5.16.4//NONSGML v1.0//EN
CALSCALE:GREGORIAN
METHOD:PUBLISH
X-WR-CALNAME:Vancouver Island Regional Library
X-ORIGINAL-URL:https://virl.bc.ca
X-WR-CALDESC:Events for Vancouver Island Regional Library
BEGIN:VTIMEZONE
TZID:America/Vancouver
BEGIN:DAYLIGHT
TZOFFSETFROM:-0800
TZOFFSETTO:-0700
TZNAME:PDT
DTSTART:20250309T100000
END:DAYLIGHT
BEGIN:STANDARD
TZOFFSETFROM:-0700
TZOFFSETTO:-0800
TZNAME:PST
DTSTART:20251102T090000
END:STANDARD
END:VTIMEZONE
BEGIN:VEVENT
DTSTART;TZID=America/Vancouver:20251220T103000
DTEND;TZID=America/Vancouver:20251220T113000
DTSTAMP:20260420T051200
CREATED:20251114T203331Z
LAST-MODIFIED:20251125T171534Z
UID:188356-1766226600-1766230200@virl.bc.ca
SUMMARY:Winter Holiday Storytime
DESCRIPTION:Bring the whole family to the library for stories\, rhymes and songs that celebrate the season. Stay and make a simple winter-themed craft. Socialize and enjoy some festive treats. All ages welcome. No registration required.
URL:https://virl.bc.ca/event/winter-holiday-storytime/
LOCATION:British Columbia\, Canada
CATEGORIES:Children,Families
ATTACH;FMTTYPE=image/png:https://virl.bc.ca/wp-content/uploads/2025/11/Winter-Storytime.png
END:VEVENT
END:VCALENDAR