BEGIN:VCALENDAR
VERSION:2.0
PRODID:-//Vancouver Island Regional Library - ECPv5.16.4//NONSGML v1.0//EN
CALSCALE:GREGORIAN
METHOD:PUBLISH
X-WR-CALNAME:Vancouver Island Regional Library
X-ORIGINAL-URL:https://virl.bc.ca
X-WR-CALDESC:Events for Vancouver Island Regional Library
BEGIN:VTIMEZONE
TZID:America/Vancouver
BEGIN:DAYLIGHT
TZOFFSETFROM:-0800
TZOFFSETTO:-0700
TZNAME:PDT
DTSTART:20260308T100000
END:DAYLIGHT
BEGIN:STANDARD
TZOFFSETFROM:-0700
TZOFFSETTO:-0800
TZNAME:PST
DTSTART:20261101T090000
END:STANDARD
END:VTIMEZONE
BEGIN:VEVENT
DTSTART;TZID=America/Vancouver:20260120T140000
DTEND;TZID=America/Vancouver:20260120T150000
DTSTAMP:20260419T062727
CREATED:20251203T224135Z
LAST-MODIFIED:20251210T232321Z
UID:189748-1768917600-1768921200@virl.bc.ca
SUMMARY:Scientist-in-Residence: Canadian Antarctic Research Expedition 2025
DESCRIPTION:Join our Scientist-In-Residence Dr. Sophia Johannessen for an illustrated talk about… \nScience at the bottom of the world: the Canadian Antarctic Research Expedition 2025 \nIn the spring of 2025\, fifteen Canadian scientists spent a month in Antarctica\, aboard the Canadian navy ship HMCS Margaret Brooke. It was an extraordinary trip: spectacular\, fascinating and strange.  The mission was science diplomacy. The scientists were there to investigate the effects of climate change on the coastal waters of Antarctica… but that was only part of the story. \nDr. Sophia Johannessen is a geochemical oceanographer at Fisheries and Oceans Canada’s Institute of Ocean Sciences in North Saanich. She studies the effects of climate change and other human activities on the coastal ocean. Her recent projects include studies of the change in productivity in the Salish Sea\, the fate of diluted bitumen spilled in BC coastal waters\, and the potential for “blue carbon” storage in seagrass meadows for climate change mitigation. She works mainly in the coastal waters of British Columbia\, but she has also worked in the Atlantic and Arctic Oceans and most recently in the coastal waters of Antarctica.
URL:https://virl.bc.ca/event/scientist-in-residence-canadian-antarctic-research-expedition-2025/
LOCATION:In Branch\, British Columbia\, Canada
CATEGORIES:Adults
ATTACH;FMTTYPE=image/jpeg:https://virl.bc.ca/wp-content/uploads/2025/12/Ships-boat-Admiralty-scaled-e1765408948905.jpg
END:VEVENT
END:VCALENDAR