BEGIN:VCALENDAR
VERSION:2.0
PRODID:-//Vancouver Island Regional Library - ECPv5.16.4//NONSGML v1.0//EN
CALSCALE:GREGORIAN
METHOD:PUBLISH
X-WR-CALNAME:Vancouver Island Regional Library
X-ORIGINAL-URL:https://virl.bc.ca
X-WR-CALDESC:Events for Vancouver Island Regional Library
BEGIN:VTIMEZONE
TZID:America/Vancouver
BEGIN:DAYLIGHT
TZOFFSETFROM:-0800
TZOFFSETTO:-0700
TZNAME:PDT
DTSTART:20260308T100000
END:DAYLIGHT
BEGIN:STANDARD
TZOFFSETFROM:-0700
TZOFFSETTO:-0800
TZNAME:PST
DTSTART:20261101T090000
END:STANDARD
END:VTIMEZONE
BEGIN:VEVENT
DTSTART;TZID=America/Vancouver:20260516T140000
DTEND;TZID=America/Vancouver:20260516T160000
DTSTAMP:20260422T164041
CREATED:20260420T172005Z
LAST-MODIFIED:20260420T172005Z
UID:200297-1778940000-1778947200@virl.bc.ca
SUMMARY:Open Mic for Writers
DESCRIPTION:Read aloud your poetry or prose\, fiction or non-fiction\, for up to 5 minutes.  Readers arrive at 1:45pm to sign-up.    Or join the audience and support local writers!  Intermission and refreshments. \nPresented by Sidney/North Saanich Library Writers Group. \n  \n  \n 
URL:https://virl.bc.ca/event/open-mic-for-writers/
LOCATION:Sidney / North Saanich Library\, 10091 Resthaven Dr.\, Sidney\, British Columbia\, V8L 3G3\, Canada
CATEGORIES:Adults,Seniors
ATTACH;FMTTYPE=image/jpeg:https://virl.bc.ca/wp-content/uploads/2018/12/macro-mic-microphone-164960-e1674596634780.jpg
END:VEVENT
END:VCALENDAR