BEGIN:VCALENDAR
VERSION:2.0
PRODID:-//Vancouver Island Regional Library - ECPv5.16.4//NONSGML v1.0//EN
CALSCALE:GREGORIAN
METHOD:PUBLISH
X-WR-CALNAME:Vancouver Island Regional Library
X-ORIGINAL-URL:https://virl.bc.ca
X-WR-CALDESC:Events for Vancouver Island Regional Library
BEGIN:VTIMEZONE
TZID:America/Vancouver
BEGIN:DAYLIGHT
TZOFFSETFROM:-0800
TZOFFSETTO:-0700
TZNAME:PDT
DTSTART:20260308T100000
END:DAYLIGHT
BEGIN:STANDARD
TZOFFSETFROM:-0700
TZOFFSETTO:-0800
TZNAME:PST
DTSTART:20261101T090000
END:STANDARD
END:VTIMEZONE
BEGIN:VEVENT
DTSTART;TZID=America/Vancouver:20260210T110000
DTEND;TZID=America/Vancouver:20260210T180000
DTSTAMP:20260420T035356
CREATED:20260208T222155Z
LAST-MODIFIED:20260208T222500Z
UID:194846-1770721200-1770746400@virl.bc.ca
SUMMARY:Olympic Watch Party - Women's Preliminary Hockey with Canada Vs USA
DESCRIPTION:Come cheer on Team Canada with your neighbours! Drop in to the Cumberland Library to watch the Olympic Women’s Hockey preliminary game as Canada takes on the USA. Watch live at 11:00AM or the recap at 3:50PM.
URL:https://virl.bc.ca/event/olympic-watch-party-womens-preliminary-hockey-with-canada-vs-usa/
CATEGORIES:Everyone,Families
ATTACH;FMTTYPE=image/png:https://virl.bc.ca/wp-content/uploads/2026/02/womens-hockey-scaled.png
END:VEVENT
END:VCALENDAR