BEGIN:VCALENDAR
VERSION:2.0
PRODID:-//Vancouver Island Regional Library - ECPv5.16.4//NONSGML v1.0//EN
CALSCALE:GREGORIAN
METHOD:PUBLISH
X-WR-CALNAME:Vancouver Island Regional Library
X-ORIGINAL-URL:https://virl.bc.ca
X-WR-CALDESC:Events for Vancouver Island Regional Library
BEGIN:VTIMEZONE
TZID:America/Vancouver
BEGIN:DAYLIGHT
TZOFFSETFROM:-0800
TZOFFSETTO:-0700
TZNAME:PDT
DTSTART:20250309T100000
END:DAYLIGHT
BEGIN:STANDARD
TZOFFSETFROM:-0700
TZOFFSETTO:-0800
TZNAME:PST
DTSTART:20251102T090000
END:STANDARD
END:VTIMEZONE
BEGIN:VEVENT
DTSTART;TZID=America/Vancouver:20251207T140000
DTEND;TZID=America/Vancouver:20251207T143000
DTSTAMP:20260420T000829
CREATED:20251117T185420Z
LAST-MODIFIED:20251117T192325Z
UID:188378-1765116000-1765117800@virl.bc.ca
SUMMARY:Mobility Storytime at the Wellington Library
DESCRIPTION:Join us for storytime featuring mobility-focused books in partnership with National Seating & Mobility Nanaimo. Build mobility awareness and foster inclusive perspectives for kids at this all-ages event! Everyone welcome. Caregiver participation required for children in attendance. 
URL:https://virl.bc.ca/event/mobility-storytime/
LOCATION:British Columbia\, Canada
CATEGORIES:Children,Everyone,Families
ATTACH;FMTTYPE=image/png:https://virl.bc.ca/wp-content/uploads/2025/11/Mobility-Storytime-image-1.png
END:VEVENT
END:VCALENDAR