BEGIN:VCALENDAR
VERSION:2.0
PRODID:-//Vancouver Island Regional Library - ECPv5.16.4//NONSGML v1.0//EN
CALSCALE:GREGORIAN
METHOD:PUBLISH
X-WR-CALNAME:Vancouver Island Regional Library
X-ORIGINAL-URL:https://virl.bc.ca
X-WR-CALDESC:Events for Vancouver Island Regional Library
BEGIN:VTIMEZONE
TZID:America/Vancouver
BEGIN:DAYLIGHT
TZOFFSETFROM:-0800
TZOFFSETTO:-0700
TZNAME:PDT
DTSTART:20260308T100000
END:DAYLIGHT
BEGIN:STANDARD
TZOFFSETFROM:-0700
TZOFFSETTO:-0800
TZNAME:PST
DTSTART:20261101T090000
END:STANDARD
END:VTIMEZONE
BEGIN:VEVENT
DTSTART;TZID=America/Vancouver:20260210T103000
DTEND;TZID=America/Vancouver:20260210T123000
DTSTAMP:20260420T015145
CREATED:20260127T001119Z
LAST-MODIFIED:20260127T001119Z
UID:193942-1770719400-1770726600@virl.bc.ca
SUMMARY:Miniatures Workshop for Adults
DESCRIPTION:Are you a fan of all things miniature in size? Or TV shows like “Best in Miniature”? Come learn how to make minis from junk- for free! No experience necessary. \nFor Adults and children 10 years of age and older! Now is your chance to make miniatures of your own! \nPresented by Lorrie Joron- creator of a historically accurate miniature dollhouse and other beautiful crafts. \nMost materials provided. A carrying tote bag for your creation is suggested. Participants are encouraged to bring their own little treasures they wish to incorporate (paper\, material\, nature found objects\, a little open box for a shadow box- optional). \nRegistration required. Register by phone/ email: 250-746-7661 or cowichan@virl.bc.ca or in person at the Cowichan service desk. \nSpaces are limited. Please notify staff if you are unable to attend the session and provide someone else with the opportunity to join!
URL:https://virl.bc.ca/event/miniatures-workshop-for-adults/
LOCATION:British Columbia\, Canada
CATEGORIES:Adults,Children,Seniors,Teens
ATTACH;FMTTYPE=image/png:https://virl.bc.ca/wp-content/uploads/2025/06/Screenshot-2025-06-25-182820.png
END:VEVENT
END:VCALENDAR