BEGIN:VCALENDAR
VERSION:2.0
PRODID:-//Vancouver Island Regional Library - ECPv5.16.4//NONSGML v1.0//EN
CALSCALE:GREGORIAN
METHOD:PUBLISH
X-WR-CALNAME:Vancouver Island Regional Library
X-ORIGINAL-URL:https://virl.bc.ca
X-WR-CALDESC:Events for Vancouver Island Regional Library
BEGIN:VTIMEZONE
TZID:America/Vancouver
BEGIN:DAYLIGHT
TZOFFSETFROM:-0800
TZOFFSETTO:-0700
TZNAME:PDT
DTSTART:20260308T100000
END:DAYLIGHT
BEGIN:STANDARD
TZOFFSETFROM:-0700
TZOFFSETTO:-0800
TZNAME:PST
DTSTART:20261101T090000
END:STANDARD
END:VTIMEZONE
BEGIN:VEVENT
DTSTART;TZID=America/Vancouver:20260423T153000
DTEND;TZID=America/Vancouver:20260423T163000
DTSTAMP:20260420T021048
CREATED:20260402T184607Z
LAST-MODIFIED:20260402T184607Z
UID:199282-1776958200-1776961800@virl.bc.ca
SUMMARY:LEGO Jam
DESCRIPTION:Kids! Families! Tweens & Teens! Come and get creative with us! \nJoin us every other Thursday (see our calendar) for LEGO Jam. Use our LEGO sets to build your own thing or try one of our cool challenges. \nWe ask that you: \n\nDo not bring your own LEGO\nParticipants must be old enough NOT to stick any pieces up their noses 🙂
URL:https://virl.bc.ca/event/lego-jam/2026-04-23/
LOCATION:Campbell River Library\, Canada
CATEGORIES:Children,Families,Teens & Tweens
ORGANIZER;CN="Renee%20Gaudet":MAILTO:rgaudet@virl.bc.ca
END:VEVENT
END:VCALENDAR