BEGIN:VCALENDAR
VERSION:2.0
PRODID:-//Vancouver Island Regional Library - ECPv5.16.4//NONSGML v1.0//EN
CALSCALE:GREGORIAN
METHOD:PUBLISH
X-WR-CALNAME:Vancouver Island Regional Library
X-ORIGINAL-URL:https://virl.bc.ca
X-WR-CALDESC:Events for Vancouver Island Regional Library
BEGIN:VTIMEZONE
TZID:America/Vancouver
BEGIN:DAYLIGHT
TZOFFSETFROM:-0800
TZOFFSETTO:-0700
TZNAME:PDT
DTSTART:20260308T100000
END:DAYLIGHT
BEGIN:STANDARD
TZOFFSETFROM:-0700
TZOFFSETTO:-0800
TZNAME:PST
DTSTART:20261101T090000
END:STANDARD
END:VTIMEZONE
BEGIN:VEVENT
DTSTART;TZID=America/Vancouver:20260124T130000
DTEND;TZID=America/Vancouver:20260124T160000
DTSTAMP:20260420T033558
CREATED:20260118T010125Z
LAST-MODIFIED:20260118T010125Z
UID:192749-1769259600-1769270400@virl.bc.ca
SUMMARY:Lego Club
DESCRIPTION:Drop in with your friends and caregivers on Saturdays from 1-4pm for Lego fun! All ages welcome.
URL:https://virl.bc.ca/event/lego-club-8/
LOCATION:Daajing Giids Library\, Bay Street\, Daajing Giids\, British Columbia\, V0T 1S0\, Canada
CATEGORIES:Children
ATTACH;FMTTYPE=image/jpeg:https://virl.bc.ca/wp-content/uploads/2018/12/AdobeStock_179865294-e1674163680762.jpeg
ORGANIZER;CN="Etchi%20Zaleski":MAILTO:jzaleski@virl.bc.ca
END:VEVENT
END:VCALENDAR