BEGIN:VCALENDAR
VERSION:2.0
PRODID:-//Vancouver Island Regional Library - ECPv5.16.4//NONSGML v1.0//EN
CALSCALE:GREGORIAN
METHOD:PUBLISH
X-WR-CALNAME:Vancouver Island Regional Library
X-ORIGINAL-URL:https://virl.bc.ca
X-WR-CALDESC:Events for Vancouver Island Regional Library
BEGIN:VTIMEZONE
TZID:America/Vancouver
BEGIN:DAYLIGHT
TZOFFSETFROM:-0800
TZOFFSETTO:-0700
TZNAME:PDT
DTSTART:20250309T100000
END:DAYLIGHT
BEGIN:STANDARD
TZOFFSETFROM:-0700
TZOFFSETTO:-0800
TZNAME:PST
DTSTART:20251102T090000
END:STANDARD
END:VTIMEZONE
BEGIN:VEVENT
DTSTART;TZID=America/Vancouver:20251215T140000
DTEND;TZID=America/Vancouver:20251215T150000
DTSTAMP:20260423T222523
CREATED:20251203T010250Z
LAST-MODIFIED:20251203T010250Z
UID:189521-1765807200-1765810800@virl.bc.ca
SUMMARY:Holiday Song Sing-Along
DESCRIPTION:Join us at the Courtenay library for an hour of festive favourites\, from classic carols to popular holiday songs. This relaxed\, family-friendly program is open to all ages and singing abilities—no experience required.
URL:https://virl.bc.ca/event/holiday-song-sing-along/
CATEGORIES:Everyone,Families
ATTACH;FMTTYPE=image/jpeg:https://virl.bc.ca/wp-content/uploads/2018/11/Handbells-1.jpg
END:VEVENT
END:VCALENDAR