BEGIN:VCALENDAR
VERSION:2.0
PRODID:-//Vancouver Island Regional Library - ECPv5.16.4//NONSGML v1.0//EN
CALSCALE:GREGORIAN
METHOD:PUBLISH
X-WR-CALNAME:Vancouver Island Regional Library
X-ORIGINAL-URL:https://virl.bc.ca
X-WR-CALDESC:Events for Vancouver Island Regional Library
BEGIN:VTIMEZONE
TZID:America/Vancouver
BEGIN:DAYLIGHT
TZOFFSETFROM:-0800
TZOFFSETTO:-0700
TZNAME:PDT
DTSTART:20270314T100000
END:DAYLIGHT
BEGIN:STANDARD
TZOFFSETFROM:-0700
TZOFFSETTO:-0800
TZNAME:PST
DTSTART:20271107T090000
END:STANDARD
END:VTIMEZONE
BEGIN:VEVENT
DTSTART;TZID=America/Vancouver:20270422T143000
DTEND;TZID=America/Vancouver:20270422T153000
DTSTAMP:20260423T172634
CREATED:20200306T021629Z
LAST-MODIFIED:20200306T021629Z
UID:200415-1808404200-1808407800@virl.bc.ca
SUMMARY:Explore Google Maps
DESCRIPTION:CANCELLED until further notice due to COVID-19 safety measures \nExplore a new feature of Google Maps each month.
URL:https://virl.bc.ca/event/google-maps/2027-04-22/
LOCATION:British Columbia\, Canada
CATEGORIES:Adults
ATTACH;FMTTYPE=image/png:https://virl.bc.ca/wp-content/uploads/2020/03/Untitled-design-2020-03-06T132544.379.png
END:VEVENT
END:VCALENDAR