BEGIN:VCALENDAR
VERSION:2.0
PRODID:-//Vancouver Island Regional Library - ECPv5.16.4//NONSGML v1.0//EN
CALSCALE:GREGORIAN
METHOD:PUBLISH
X-WR-CALNAME:Vancouver Island Regional Library
X-ORIGINAL-URL:https://virl.bc.ca
X-WR-CALDESC:Events for Vancouver Island Regional Library
BEGIN:VTIMEZONE
TZID:America/Vancouver
BEGIN:DAYLIGHT
TZOFFSETFROM:-0800
TZOFFSETTO:-0700
TZNAME:PDT
DTSTART:20250309T100000
END:DAYLIGHT
BEGIN:STANDARD
TZOFFSETFROM:-0700
TZOFFSETTO:-0800
TZNAME:PST
DTSTART:20251102T090000
END:STANDARD
END:VTIMEZONE
BEGIN:VEVENT
DTSTART;TZID=America/Vancouver:20251202T100000
DTEND;TZID=America/Vancouver:20251202T180000
DTSTAMP:20260419T221023
CREATED:20251114T204000Z
LAST-MODIFIED:20251118T180622Z
UID:188362-1764669600-1764698400@virl.bc.ca
SUMMARY:Find the Snowmen
DESCRIPTION:We have a new MEGA challenge for the kiddos! \nSearch the children’s area in the library for the hidden snowmen to solve a riddle. When you’ve got the answer\, put your name and contact on the back and enter our draw. You could win a prize.
URL:https://virl.bc.ca/event/find-the-snowmen/2025-12-02/
LOCATION:In Branch\, British Columbia\, Canada
CATEGORIES:Children
ATTACH;FMTTYPE=image/png:https://virl.bc.ca/wp-content/uploads/2025/11/SnowmenChallenge.png
END:VEVENT
END:VCALENDAR