BEGIN:VCALENDAR
VERSION:2.0
PRODID:-//Vancouver Island Regional Library - ECPv5.16.4//NONSGML v1.0//EN
CALSCALE:GREGORIAN
METHOD:PUBLISH
X-WR-CALNAME:Vancouver Island Regional Library
X-ORIGINAL-URL:https://virl.bc.ca
X-WR-CALDESC:Events for Vancouver Island Regional Library
BEGIN:VTIMEZONE
TZID:America/Vancouver
BEGIN:DAYLIGHT
TZOFFSETFROM:-0800
TZOFFSETTO:-0700
TZNAME:PDT
DTSTART:20260308T100000
END:DAYLIGHT
BEGIN:STANDARD
TZOFFSETFROM:-0700
TZOFFSETTO:-0800
TZNAME:PST
DTSTART:20261101T090000
END:STANDARD
END:VTIMEZONE
BEGIN:VEVENT
DTSTART;TZID=America/Vancouver:20260128T103000
DTEND;TZID=America/Vancouver:20260128T110000
DTSTAMP:20260421T031915
CREATED:20260122T000152Z
LAST-MODIFIED:20260309T170934Z
UID:193337-1769596200-1769598000@virl.bc.ca
SUMMARY:Daycare storytime
DESCRIPTION:The Qualicum library has a storytime geared at daycare groups. Drop-in\, no registration required every Wednesday at 10:30.
URL:https://virl.bc.ca/event/daycare-storytime/
LOCATION:Qualicum Beach Library\, 660 primrose\, qualicum beach\, British Columbia\, Canada
ATTACH;FMTTYPE=image/png:https://virl.bc.ca/wp-content/uploads/2020/03/Untitled-design-2020-03-06T114313.171.png
ORGANIZER;CN="Nathan%20McKay":MAILTO:nmckay@virl.bc.ca
END:VEVENT
END:VCALENDAR