BEGIN:VCALENDAR
VERSION:2.0
PRODID:-//Vancouver Island Regional Library - ECPv5.16.4//NONSGML v1.0//EN
CALSCALE:GREGORIAN
METHOD:PUBLISH
X-WR-CALNAME:Vancouver Island Regional Library
X-ORIGINAL-URL:https://virl.bc.ca
X-WR-CALDESC:Events for Vancouver Island Regional Library
BEGIN:VTIMEZONE
TZID:America/Vancouver
BEGIN:DAYLIGHT
TZOFFSETFROM:-0800
TZOFFSETTO:-0700
TZNAME:PDT
DTSTART:20270314T100000
END:DAYLIGHT
BEGIN:STANDARD
TZOFFSETFROM:-0700
TZOFFSETTO:-0800
TZNAME:PST
DTSTART:20271107T090000
END:STANDARD
END:VTIMEZONE
BEGIN:VEVENT
DTSTART;TZID=America/Vancouver:20270211T180000
DTEND;TZID=America/Vancouver:20270211T190000
DTSTAMP:20260419T185911
CREATED:20230207T212230Z
LAST-MODIFIED:20230207T212230Z
UID:195386-1802368800-1802372400@virl.bc.ca
SUMMARY:Port Alice Board Game Night
DESCRIPTION:Every Thursday evening is Board Game Night at Port Alice Library. We have cards\, Clue\, Mahjong and more! Play one of ours or bring your own favorites. \nBring a friend or make some new ones. We have nice big tables and lots of great seating\, so put on your game face and come out and play! \nNo registration needed and all are welcome.
URL:https://virl.bc.ca/event/board-game-night-3/2027-02-11/
LOCATION:In Branch\, British Columbia\, Canada
CATEGORIES:Everyone
ATTACH;FMTTYPE=image/jpeg:https://virl.bc.ca/wp-content/uploads/2018/11/Games_Night-e1674155048576.jpg
END:VEVENT
END:VCALENDAR