BEGIN:VCALENDAR
VERSION:2.0
PRODID:-//Vancouver Island Regional Library - ECPv5.16.4//NONSGML v1.0//EN
CALSCALE:GREGORIAN
METHOD:PUBLISH
X-WR-CALNAME:Vancouver Island Regional Library
X-ORIGINAL-URL:https://virl.bc.ca
X-WR-CALDESC:Events for Vancouver Island Regional Library
BEGIN:VTIMEZONE
TZID:America/Vancouver
BEGIN:DAYLIGHT
TZOFFSETFROM:-0800
TZOFFSETTO:-0700
TZNAME:PDT
DTSTART:20260308T100000
END:DAYLIGHT
BEGIN:STANDARD
TZOFFSETFROM:-0700
TZOFFSETTO:-0800
TZNAME:PST
DTSTART:20261101T090000
END:STANDARD
END:VTIMEZONE
BEGIN:VEVENT
DTSTART;TZID=America/Vancouver:20260810T183000
DTEND;TZID=America/Vancouver:20260810T200000
DTSTAMP:20260420T105118
CREATED:20260114T195003Z
LAST-MODIFIED:20260412T224549Z
UID:192681-1786386600-1786392000@virl.bc.ca
SUMMARY:Virtual Gardening Series - Smart Water: From Saving to Xeriscape
DESCRIPTION:Learn all about being water-smart with a certified Master Gardener!\n\n\n\nThis is a FREE course that will take place virtually on Zoom. *Please REGISTER to receive the link and event material & updates. \nSee the rest of the events in the series here. Take a look at the great back catalogue of our Virtual Gardening Series here. \nABOUT THE PRESENTER: \nJo-Ann Canning learned how to garden on her grandparents’ Fraser Valley truck farm and in her mother’s urban food and ornamental garden on Vancouver’s West Side. \nFor over 45 years she’s gardened in climates as diverse as British Columbia’s Sunshine Coast\, Vancouver Island\, Nova Scotia\, the UK\, the American Southwest desert and at altitude in the Rocky Mountains. In her 29 years as a Master Gardener she has helped manage community gardening initiatives\, and taught urban food gardening to groups at risk of food insecurity. She’s taught seminars at VanDusen Garden Botanical Garden\, horticultural associations and garden clubs\, VIU’s master gardener training classes\, the Horticultural Technicians’ Program at VIU’s Paine Centre\, and VIRL’s Virtual Gardening video series. Her articles and photographs have appeared in local and international magazines. Jo-Ann’s present focus is on helping urban gardeners develop strategies in our changing climate to keep their landscapes sustainable as well as beautiful. \nABOUT VIMGA: \nThe Vancouver Island Master Gardeners Association (VIMGA) is a chapter of the Master Gardeners Association\, an international service society of specially trained volunteers who teach science-based sustainable gardening practices to home gardeners. VIMGA is one of the 5 chapters in the British Columbia Association and partnering with the Victoria chapter\, specializes in the stewardship of Vancouver Island’s unique environment.
URL:https://virl.bc.ca/event/virtual-gardening-series-smart-water-from-saving-to-xeriscape/
LOCATION:ZOOM\, British Columbia\, Canada
CATEGORIES:Adults,VIrtual Gardening Series
ATTACH;FMTTYPE=image/png:https://virl.bc.ca/wp-content/uploads/2026/01/VGS-smart-water-may-2026-e1768420121871.png
END:VEVENT
END:VCALENDAR