BEGIN:VCALENDAR
VERSION:2.0
PRODID:-//Vancouver Island Regional Library - ECPv5.16.4//NONSGML v1.0//EN
CALSCALE:GREGORIAN
METHOD:PUBLISH
X-WR-CALNAME:Vancouver Island Regional Library
X-ORIGINAL-URL:https://virl.bc.ca
X-WR-CALDESC:Events for Vancouver Island Regional Library
BEGIN:VTIMEZONE
TZID:America/Vancouver
BEGIN:DAYLIGHT
TZOFFSETFROM:-0800
TZOFFSETTO:-0700
TZNAME:PDT
DTSTART:20260308T100000
END:DAYLIGHT
BEGIN:STANDARD
TZOFFSETFROM:-0700
TZOFFSETTO:-0800
TZNAME:PST
DTSTART:20261101T090000
END:STANDARD
END:VTIMEZONE
BEGIN:VEVENT
DTSTART;TZID=America/Vancouver:20260601T183000
DTEND;TZID=America/Vancouver:20260601T200000
DTSTAMP:20260419T162006
CREATED:20260115T224823Z
LAST-MODIFIED:20260115T224823Z
UID:192721-1780338600-1780344000@virl.bc.ca
SUMMARY:Virtual Gardening Series - Crop Rotation
DESCRIPTION:Learn all about crop rotation with a certified Master Gardener!\n\n\n\nThis is a FREE course that will take place virtually on Zoom. *Please REGISTER to receive the link and event material & updates. \nSee the rest of the events in the series here. Take a look at the great back catalogue of our Virtual Gardening Series here. \nABOUT THE PRESENTER: \nMike O’Neill is a retired accountant with a technology background. After retiring Mike and his partner Mary moved to Nanaimo on Vancouver Island\, Mary encouraged him to expand his garden knowledge and he completed the classroom training and VIMGA Intern experience requirements and became a Certified Master in 2017. He has held various positions with Vancouver Island Master Gardeners and now serves as the President. He enjoys lifelong learning and sharing his experience and knowledge with others. \nABOUT VIMGA: \nThe Vancouver Island Master Gardeners Association (VIMGA) is a chapter of the Master Gardeners Association\, an international service society of specially trained volunteers who teach science-based sustainable gardening practices to home gardeners. VIMGA is one of the 5 chapters in the British Columbia Association and partnering with the Victoria chapter\, specializes in the stewardship of Vancouver Island’s unique environment.
URL:https://virl.bc.ca/event/virtual-gardening-series-crop-rotation/
LOCATION:ZOOM\, British Columbia\, Canada
CATEGORIES:Adults,VIrtual Gardening Series
ATTACH;FMTTYPE=image/png:https://virl.bc.ca/wp-content/uploads/2026/01/VGS-crop-rotation-june-2026-e1768517232681.png
END:VEVENT
END:VCALENDAR