BEGIN:VCALENDAR
VERSION:2.0
PRODID:-//Vancouver Island Regional Library - ECPv5.16.4//NONSGML v1.0//EN
CALSCALE:GREGORIAN
METHOD:PUBLISH
X-WR-CALNAME:Vancouver Island Regional Library
X-ORIGINAL-URL:https://virl.bc.ca
X-WR-CALDESC:Events for Vancouver Island Regional Library
BEGIN:VTIMEZONE
TZID:America/Vancouver
BEGIN:DAYLIGHT
TZOFFSETFROM:-0800
TZOFFSETTO:-0700
TZNAME:PDT
DTSTART:20260308T100000
END:DAYLIGHT
BEGIN:STANDARD
TZOFFSETFROM:-0700
TZOFFSETTO:-0800
TZNAME:PST
DTSTART:20261101T090000
END:STANDARD
END:VTIMEZONE
BEGIN:VEVENT
DTSTART;VALUE=DATE:20260716
DTEND;VALUE=DATE:20260717
DTSTAMP:20260425T152841
CREATED:20260110T001927Z
LAST-MODIFIED:20260110T001927Z
UID:192116-1784160000-1784246399@virl.bc.ca
SUMMARY:Tea Thursday
DESCRIPTION:Enjoy a cup of tea on us all day at the library while you browse and gather  🙂
URL:https://virl.bc.ca/event/tea-thursday/2026-07-16/
LOCATION:British Columbia\, Canada
CATEGORIES:Adults,Seniors,Teens
ATTACH;FMTTYPE=image/jpeg:https://virl.bc.ca/wp-content/uploads/2018/10/Untitled-design-20-e1543878195622.jpg
END:VEVENT
BEGIN:VEVENT
DTSTART;TZID=America/Vancouver:20260716T150000
DTEND;TZID=America/Vancouver:20260716T170000
DTSTAMP:20260425T152841
CREATED:20260121T003449Z
LAST-MODIFIED:20260407T224205Z
UID:199486-1784214000-1784221200@virl.bc.ca
SUMMARY:Needlecraft Circle
DESCRIPTION:Do you love embroidery\, knitting or crocheting? How about beading or other needlecraft? Join our needlecraft circle every Thursday at 3 pm for help\, inspiration and friendship!
URL:https://virl.bc.ca/event/needlecraft-circle/2026-07-16/
LOCATION:British Columbia\, Canada
CATEGORIES:Adults,Seniors,Teens
ATTACH;FMTTYPE=image/jpeg:https://virl.bc.ca/wp-content/uploads/2026/01/needle-and-thread-e1769017334378.jpg
END:VEVENT
BEGIN:VEVENT
DTSTART;TZID=America/Vancouver:20260716T173000
DTEND;TZID=America/Vancouver:20260716T183000
DTSTAMP:20260425T152841
CREATED:20220913T205436Z
LAST-MODIFIED:20220913T205436Z
UID:188097-1784223000-1784226600@virl.bc.ca
SUMMARY:Intermediate Conversational Spanish
DESCRIPTION:Join us to practice speaking Spanish in a casual setting! \nOn Thursdays\, 5:30-6:30pm\, we sit and chat en español en la biblioteca. Intermediate level.
URL:https://virl.bc.ca/event/conversational-spanish/2026-07-16/
LOCATION:British Columbia\, Canada
CATEGORIES:Adults,Seniors,Teens
ATTACH;FMTTYPE=image/jpeg:https://virl.bc.ca/wp-content/uploads/2022/08/Untitled-design2-e1662052030749.jpg
END:VEVENT
END:VCALENDAR