BEGIN:VCALENDAR
VERSION:2.0
PRODID:-//Vancouver Island Regional Library - ECPv5.16.4//NONSGML v1.0//EN
CALSCALE:GREGORIAN
METHOD:PUBLISH
X-WR-CALNAME:Vancouver Island Regional Library
X-ORIGINAL-URL:https://virl.bc.ca
X-WR-CALDESC:Events for Vancouver Island Regional Library
BEGIN:VTIMEZONE
TZID:America/Vancouver
BEGIN:DAYLIGHT
TZOFFSETFROM:-0800
TZOFFSETTO:-0700
TZNAME:PDT
DTSTART:20260308T100000
END:DAYLIGHT
BEGIN:STANDARD
TZOFFSETFROM:-0700
TZOFFSETTO:-0800
TZNAME:PST
DTSTART:20261101T090000
END:STANDARD
END:VTIMEZONE
BEGIN:VEVENT
DTSTART;TZID=America/Vancouver:20260516T103000
DTEND;TZID=America/Vancouver:20260516T123000
DTSTAMP:20260420T233906
CREATED:20260410T234906Z
LAST-MODIFIED:20260410T235112Z
UID:199996-1778927400-1778934600@virl.bc.ca
SUMMARY:Writing for Children - with Sylvia Thomson
DESCRIPTION:Sylvia says\, “Let’s take those great ideas and turn them into a story children will enjoy!  This workshop will inform you about the age(s) you are writing for\, the stages of children’s reading\, the styles of books\, and how illustrations work with a story.” \nPlease register for this workshop by calling or signing up at the library  247-7878
URL:https://virl.bc.ca/event/writing-for-children-with-sylvia-thomson/
LOCATION:British Columbia\, Canada
CATEGORIES:Adults,Seniors,Teens
ATTACH;FMTTYPE=image/jpeg:https://virl.bc.ca/wp-content/uploads/2026/04/Sylvia-for-booksbagels-reading-scaled-e1775865066337.jpeg
END:VEVENT
BEGIN:VEVENT
DTSTART;TZID=America/Vancouver:20260516T110000
DTEND;TZID=America/Vancouver:20260516T110000
DTSTAMP:20260420T233906
CREATED:20260122T200030Z
LAST-MODIFIED:20260219T223327Z
UID:193552-1778929200-1778929200@virl.bc.ca
SUMMARY:Family Fun Day in Port Hardy
DESCRIPTION:Come to the Port Hardy library on Saturdays at 11 am for free family fun! Do a craft\, read a book\, or play games. Fun for the whole family!
URL:https://virl.bc.ca/event/family-fun-day-in-port-hardy/2026-05-16/
LOCATION:In Branch\, British Columbia\, Canada
CATEGORIES:Children,Everyone,Families,Teens,Tweens
ATTACH;FMTTYPE=image/jpeg:https://virl.bc.ca/wp-content/uploads/2026/01/kids-fun-e1771540331573.jpg
END:VEVENT
BEGIN:VEVENT
DTSTART;TZID=America/Vancouver:20260516T110000
DTEND;TZID=America/Vancouver:20260516T150000
DTSTAMP:20260420T233906
CREATED:20260303T010509Z
LAST-MODIFIED:20260303T010509Z
UID:196147-1778929200-1778943600@virl.bc.ca
SUMMARY:Oceanside Chess Club
DESCRIPTION:Swing by and join us for a thrilling game of chess! Everyone welcome\, games are provided. \nThe Oceanside Chess club meets every Saturday from 11-3 pm at the Parksville library\, except the first Saturday of the month.
URL:https://virl.bc.ca/event/oceanside-chess-club/2026-05-16/
LOCATION:British Columbia
CATEGORIES:Adults,Children,Everyone,Families,Seniors,Teens
ATTACH;FMTTYPE=image/jpeg:https://virl.bc.ca/wp-content/uploads/2018/11/chess-figures-PNSM5MK-e1543442790712.jpg
END:VEVENT
BEGIN:VEVENT
DTSTART;TZID=America/Vancouver:20260516T143000
DTEND;TZID=America/Vancouver:20260516T153000
DTSTAMP:20260420T233906
CREATED:20220915T215922Z
LAST-MODIFIED:20260331T235407Z
UID:198563-1778941800-1778945400@virl.bc.ca
SUMMARY:Teen Advisory Group
DESCRIPTION:CALLING ALL TEENS: meet other like-minded youth in Nanaimo\, gain community service hours and help organize and facilitate activities at the library!  \nBeing a part of Teen Advisory Group could include participating in; \n\nTeen Book Club\nGame nights\nTeen tech support\nReading Buddies\nEscape Rooms\nCrafts for kids\nGuest speakers\nThemed activity night\nTAG picks (reading/listening/watching suggestions)\nTeen experts\nTeen advocates\n\n2:30-3:30 PM on the third Saturday of each month \nEmail NanaimoNorth@virl.bc.ca or apply to be a TAG member at the link below! \nFind out more about VIRL’s Teen Advisory Groups here: https://virl.bc.ca/read-watch-listen/audience/teens/teen-advisory-group/
URL:https://virl.bc.ca/event/teen-advisory-group-2/2026-05-16/
LOCATION:British Columbia\, Canada
CATEGORIES:Teens
ATTACH;FMTTYPE=image/jpeg:https://virl.bc.ca/wp-content/uploads/2019/02/iStock-667946514.jpg
END:VEVENT
BEGIN:VEVENT
DTSTART;TZID=America/Vancouver:20260516T153000
DTEND;TZID=America/Vancouver:20260516T163000
DTSTAMP:20260420T233906
CREATED:20241030T215046Z
LAST-MODIFIED:20260331T235700Z
UID:196368-1778945400-1778949000@virl.bc.ca
SUMMARY:Shelf Care Teen Book Club
DESCRIPTION:Do you love reading and want to discuss books with others your age? Look no further! Here at Nanaimo North\, we have a teen book club always looking for members. The teen book club will help you expand skills in speaking\, reading\, and annotation\, all while meeting new friends! \nMeetings are held every 3rd Saturday of the month from 3:30-4:30. You must be 12-18 years old. There will be new themes every month to help you stay engaged! \nEmail nanaimonorth@virl.bc.ca to register. \nUpcoming 2026 themes: \n\nApril: Dystopian\nMay: Asian Authors\nJune: Books Made into Movies\n\n 
URL:https://virl.bc.ca/event/shelf-care-teen-book-club/2026-05-16/
LOCATION:6250 Hammond Bay Road\, Nanaimo\, BC\, British Columbia\, Canada
CATEGORIES:Teens
ATTACH;FMTTYPE=image/png:https://virl.bc.ca/wp-content/uploads/2019/05/Untitled-design-93.png
END:VEVENT
END:VCALENDAR