BEGIN:VCALENDAR
VERSION:2.0
PRODID:-//Vancouver Island Regional Library - ECPv5.16.4//NONSGML v1.0//EN
CALSCALE:GREGORIAN
METHOD:PUBLISH
X-WR-CALNAME:Vancouver Island Regional Library
X-ORIGINAL-URL:https://virl.bc.ca
X-WR-CALDESC:Events for Vancouver Island Regional Library
BEGIN:VTIMEZONE
TZID:America/Vancouver
BEGIN:DAYLIGHT
TZOFFSETFROM:-0800
TZOFFSETTO:-0700
TZNAME:PDT
DTSTART:20250309T100000
END:DAYLIGHT
BEGIN:STANDARD
TZOFFSETFROM:-0700
TZOFFSETTO:-0800
TZNAME:PST
DTSTART:20251102T090000
END:STANDARD
END:VTIMEZONE
BEGIN:VEVENT
DTSTART;TZID=America/Vancouver:20251224T103000
DTEND;TZID=America/Vancouver:20251224T110000
DTSTAMP:20260420T052000
CREATED:20250829T224558Z
LAST-MODIFIED:20250829T224558Z
UID:183132-1766572200-1766574000@virl.bc.ca
SUMMARY:Family Storytime
DESCRIPTION:Join us for stories\, songs\, fingerplays\, felt activities and more.  Geared towards children aged 0 – 5 years and their families. Drop in\, all are welcome!
URL:https://virl.bc.ca/event/family-storytime-7/2025-12-24/
CATEGORIES:Children,Families
ATTACH;FMTTYPE=image/png:https://virl.bc.ca/wp-content/uploads/2022/09/OctStorytimeWeb-1200-×-628-px-1.png
END:VEVENT
BEGIN:VEVENT
DTSTART;TZID=America/Vancouver:20251224T110000
DTEND;TZID=America/Vancouver:20251224T113000
DTSTAMP:20260420T052000
CREATED:20250906T200244Z
LAST-MODIFIED:20250906T200244Z
UID:186443-1766574000-1766575800@virl.bc.ca
SUMMARY:Storytime at Port Hardy Library
DESCRIPTION:New time!! Join us for storytime every day – Tuesday through Saturday – at 11:00.\nNo need to register in advance\, just stop by. It’s free and everyone is welcome!
URL:https://virl.bc.ca/event/storytime-at-the-port-hardy-library-2/2025-12-24/
LOCATION:In Branch\, British Columbia\, Canada
CATEGORIES:Children,Families
ATTACH;FMTTYPE=image/png:https://virl.bc.ca/wp-content/uploads/2025/08/Screenshot-2025-09-06-125907.png
END:VEVENT
BEGIN:VEVENT
DTSTART;TZID=America/Vancouver:20251224T153000
DTEND;TZID=America/Vancouver:20251224T163000
DTSTAMP:20260420T052000
CREATED:20250205T214054Z
LAST-MODIFIED:20250205T214054Z
UID:194171-1766590200-1766593800@virl.bc.ca
SUMMARY:LEGO Club
DESCRIPTION:Join us for LEGO Club! \n  \nDrop in to create anything you can imagine or follow the themed prompt and have your creations displayed in the library! \n  \nChildren must be accompanied by an adult for the duration of the program.
URL:https://virl.bc.ca/event/lego-club-4/2025-12-24/
LOCATION:British Columbia\, Canada
CATEGORIES:Children,Families
ATTACH;FMTTYPE=image/jpeg:https://virl.bc.ca/wp-content/uploads/2018/12/AdobeStock_179865294-e1674163680762.jpeg
END:VEVENT
END:VCALENDAR