BEGIN:VCALENDAR
VERSION:2.0
PRODID:-//Vancouver Island Regional Library - ECPv5.16.4//NONSGML v1.0//EN
CALSCALE:GREGORIAN
METHOD:PUBLISH
X-WR-CALNAME:Vancouver Island Regional Library
X-ORIGINAL-URL:https://virl.bc.ca
X-WR-CALDESC:Events for Vancouver Island Regional Library
BEGIN:VTIMEZONE
TZID:America/Vancouver
BEGIN:DAYLIGHT
TZOFFSETFROM:-0800
TZOFFSETTO:-0700
TZNAME:PDT
DTSTART:20250309T100000
END:DAYLIGHT
BEGIN:STANDARD
TZOFFSETFROM:-0700
TZOFFSETTO:-0800
TZNAME:PST
DTSTART:20251102T090000
END:STANDARD
END:VTIMEZONE
BEGIN:VEVENT
DTSTART;TZID=America/Vancouver:20251211T170000
DTEND;TZID=America/Vancouver:20251213T100000
DTSTAMP:20260420T052021
CREATED:20251206T222025Z
LAST-MODIFIED:20251208T211608Z
UID:189894-1765472400-1765620000@virl.bc.ca
SUMMARY:Winter Stuffie Sleepover
DESCRIPTION:Looking for something fun for your stuffies to do this winter break? Register them for the Stuffie Sleepover at the library! \nDrop off your stuffed animal bestie by 5PM on Thursday\, December 11 and let them enjoy a sleepover adventure at the library. Pick them up Saturday morning and get a photo book of their adventures! \nRegistration required\, limited spaces available. Call branch at 250-642-3022 to register.
URL:https://virl.bc.ca/event/winter-stuffie-sleepover/
LOCATION:In Branch\, British Columbia\, Canada
CATEGORIES:Children,Families
ATTACH;FMTTYPE=image/jpeg:https://virl.bc.ca/wp-content/uploads/2024/11/Winter-Stuffie-Sleepover-Presentation-e1774648898377.jpg
END:VEVENT
BEGIN:VEVENT
DTSTART;TZID=America/Vancouver:20251212T153000
DTEND;TZID=America/Vancouver:20251212T163000
DTSTAMP:20260420T052021
CREATED:20251125T210343Z
LAST-MODIFIED:20251125T210343Z
UID:188953-1765553400-1765557000@virl.bc.ca
SUMMARY:Holiday Singalong
DESCRIPTION:Join us for a seasonal singalong with Cara McCandless and Naomi Payan. \n 
URL:https://virl.bc.ca/event/holiday-singalong/
LOCATION:British Columbia\, Canada
CATEGORIES:Adults,Children,Everyone,Families,Seniors,Teens,Tweens
ATTACH;FMTTYPE=image/jpeg:https://virl.bc.ca/wp-content/uploads/2018/11/Handbells-1.jpg
END:VEVENT
END:VCALENDAR