BEGIN:VCALENDAR
VERSION:2.0
PRODID:-//Vancouver Island Regional Library - ECPv5.16.4//NONSGML v1.0//EN
CALSCALE:GREGORIAN
METHOD:PUBLISH
X-WR-CALNAME:Vancouver Island Regional Library
X-ORIGINAL-URL:https://virl.bc.ca
X-WR-CALDESC:Events for Vancouver Island Regional Library
BEGIN:VTIMEZONE
TZID:America/Vancouver
BEGIN:DAYLIGHT
TZOFFSETFROM:-0800
TZOFFSETTO:-0700
TZNAME:PDT
DTSTART:20250309T100000
END:DAYLIGHT
BEGIN:STANDARD
TZOFFSETFROM:-0700
TZOFFSETTO:-0800
TZNAME:PST
DTSTART:20251102T090000
END:STANDARD
END:VTIMEZONE
BEGIN:VEVENT
DTSTART;TZID=America/Vancouver:20251206T110000
DTEND;TZID=America/Vancouver:20251206T130000
DTSTAMP:20260420T051917
CREATED:20251130T003320Z
LAST-MODIFIED:20251203T192233Z
UID:189444-1765018800-1765026000@virl.bc.ca
SUMMARY:Lego Club and Family Fun Day
DESCRIPTION:Start your Saturdays at the library with fun activities for the whole family! \n  \n  \n 
URL:https://virl.bc.ca/event/lego-club-and-family-fun-day/
LOCATION:In Branch\, British Columbia\, Canada
CATEGORIES:Children,Everyone,Families,Teens & Tweens
ATTACH;FMTTYPE=image/png:https://virl.bc.ca/wp-content/uploads/2025/11/Lego-e1765409188801.png
END:VEVENT
END:VCALENDAR