BEGIN:VCALENDAR
VERSION:2.0
PRODID:-//Vancouver Island Regional Library - ECPv5.16.4//NONSGML v1.0//EN
CALSCALE:GREGORIAN
METHOD:PUBLISH
X-WR-CALNAME:Vancouver Island Regional Library
X-ORIGINAL-URL:https://virl.bc.ca
X-WR-CALDESC:Events for Vancouver Island Regional Library
BEGIN:VTIMEZONE
TZID:America/Vancouver
BEGIN:DAYLIGHT
TZOFFSETFROM:-0800
TZOFFSETTO:-0700
TZNAME:PDT
DTSTART:20250309T100000
END:DAYLIGHT
BEGIN:STANDARD
TZOFFSETFROM:-0700
TZOFFSETTO:-0800
TZNAME:PST
DTSTART:20251102T090000
END:STANDARD
END:VTIMEZONE
BEGIN:VEVENT
DTSTART;TZID=America/Vancouver:20251203T153000
DTEND;TZID=America/Vancouver:20251203T170000
DTSTAMP:20260420T052109
CREATED:20251130T002520Z
LAST-MODIFIED:20251203T000623Z
UID:189430-1764775800-1764781200@virl.bc.ca
SUMMARY:After School Crafternoon DIY
DESCRIPTION:Hang out at the library and make cool stuff! We supply the materials\, you supply the imagination. \n  \n 
URL:https://virl.bc.ca/event/after-school-crafternoon-diy/
LOCATION:In Branch\, British Columbia\, Canada
CATEGORIES:Children,Families,Teens & Tweens
ATTACH;FMTTYPE=image/jpeg:https://virl.bc.ca/wp-content/uploads/2025/11/yarn-heart-e1765409228999.jpg
END:VEVENT
END:VCALENDAR