BEGIN:VCALENDAR
VERSION:2.0
PRODID:-//Vancouver Island Regional Library - ECPv5.16.4//NONSGML v1.0//EN
CALSCALE:GREGORIAN
METHOD:PUBLISH
X-WR-CALNAME:Vancouver Island Regional Library
X-ORIGINAL-URL:https://virl.bc.ca
X-WR-CALDESC:Events for Vancouver Island Regional Library
BEGIN:VTIMEZONE
TZID:America/Vancouver
BEGIN:DAYLIGHT
TZOFFSETFROM:-0800
TZOFFSETTO:-0700
TZNAME:PDT
DTSTART:20250309T100000
END:DAYLIGHT
BEGIN:STANDARD
TZOFFSETFROM:-0700
TZOFFSETTO:-0800
TZNAME:PST
DTSTART:20251102T090000
END:STANDARD
END:VTIMEZONE
BEGIN:VEVENT
DTSTART;TZID=America/Vancouver:20251108T110000
DTEND;TZID=America/Vancouver:20251108T140000
DTSTAMP:20260420T065948
CREATED:20251010T150423Z
LAST-MODIFIED:20251014T201513Z
UID:186665-1762599600-1762610400@virl.bc.ca
SUMMARY:Button Making for Everyone
DESCRIPTION:Button making is fun and easy. We’ll show you how. \nDraw a design of your own — or find one in a magazine. \nEveryone is welcome to this fun\, free\, all-ages program.
URL:https://virl.bc.ca/event/button-making-for-everyone/
LOCATION:In Branch\, British Columbia\, Canada
CATEGORIES:Children,Everyone,Families
ATTACH;FMTTYPE=image/jpeg:https://virl.bc.ca/wp-content/uploads/2024/10/paw-button-1.jpg
END:VEVENT
BEGIN:VEVENT
DTSTART;TZID=America/Vancouver:20251108T110000
DTEND;TZID=America/Vancouver:20251108T120000
DTSTAMP:20260420T065948
CREATED:20251104T005015Z
LAST-MODIFIED:20251104T005015Z
UID:187980-1762599600-1762603200@virl.bc.ca
SUMMARY:Local Author Penny Repstock at the Woss Library
DESCRIPTION:Local author Penny Repstock will be in the Woss Library\, reading from her children’s book Oscar the Oyster. This is a sweet story about kindness\, empathy\, and the value of friendship\, told through the creatures of our beautiful coast. \nAll families and kids of all ages are welcome to attend this free event. There will be a draw for a signed copy of the book — and snacks! Hope to see you there.
URL:https://virl.bc.ca/event/local-author-penny-repstock-at-the-woss-library/
LOCATION:British Columbia\, Canada
CATEGORIES:Children,Everyone,Families
ATTACH;FMTTYPE=image/png:https://virl.bc.ca/wp-content/uploads/2025/11/book.png
END:VEVENT
END:VCALENDAR