BEGIN:VCALENDAR
VERSION:2.0
PRODID:-//Vancouver Island Regional Library - ECPv5.16.4//NONSGML v1.0//EN
CALSCALE:GREGORIAN
METHOD:PUBLISH
X-WR-CALNAME:Vancouver Island Regional Library
X-ORIGINAL-URL:https://virl.bc.ca
X-WR-CALDESC:Events for Vancouver Island Regional Library
BEGIN:VTIMEZONE
TZID:America/Vancouver
BEGIN:DAYLIGHT
TZOFFSETFROM:-0800
TZOFFSETTO:-0700
TZNAME:PDT
DTSTART:20250309T100000
END:DAYLIGHT
BEGIN:STANDARD
TZOFFSETFROM:-0700
TZOFFSETTO:-0800
TZNAME:PST
DTSTART:20251102T090000
END:STANDARD
END:VTIMEZONE
BEGIN:VEVENT
DTSTART;TZID=America/Vancouver:20251023T143000
DTEND;TZID=America/Vancouver:20251023T163000
DTSTAMP:20260420T090130
CREATED:20251016T235956Z
LAST-MODIFIED:20251121T183018Z
UID:187085-1761229800-1761237000@virl.bc.ca
SUMMARY:LEGO® Club
DESCRIPTION:Kids\, join us for creative building fun! We provide the LEGO®. \nThis is a free drop-in event. \n  \n  \n 
URL:https://virl.bc.ca/event/lego-club/2025-10-23/
LOCATION:In Branch\, British Columbia\, Canada
CATEGORIES:Children,Families
ATTACH;FMTTYPE=image/jpeg:https://virl.bc.ca/wp-content/uploads/2023/07/ton-lego.jpg
END:VEVENT
BEGIN:VEVENT
DTSTART;TZID=America/Vancouver:20251023T151500
DTEND;TZID=America/Vancouver:20251023T161500
DTSTAMP:20260420T090130
CREATED:20251018T005250Z
LAST-MODIFIED:20251018T005250Z
UID:187266-1761232500-1761236100@virl.bc.ca
SUMMARY:Nintendo Switch Gaming
DESCRIPTION:Come play Nintendo Switch with your friends at the library! Thursdays from 3:15pm-4:15pm.
URL:https://virl.bc.ca/event/nintendo-switch-gaming-2/
LOCATION:Masset Library\, 1700 Hodges Avenue\, Masset\, British Columbia\, V0T 1M0\, Canada
CATEGORIES:Children,Teens,Teens & Tweens,Tweens
ATTACH;FMTTYPE=image/jpeg:https://virl.bc.ca/wp-content/uploads/2024/04/NS-photo-e1716313768373.jpg
ORGANIZER;CN="Etchi%20Zaleski":MAILTO:jzaleski@virl.bc.ca
END:VEVENT
BEGIN:VEVENT
DTSTART;TZID=America/Vancouver:20251023T153000
DTEND;TZID=America/Vancouver:20251023T163000
DTSTAMP:20260420T090130
CREATED:20251010T171747Z
LAST-MODIFIED:20251010T171747Z
UID:186841-1761233400-1761237000@virl.bc.ca
SUMMARY:Colour Potions
DESCRIPTION:Come use science and nature to create your own colour changing magic potions. Best suited for ages 4-12.
URL:https://virl.bc.ca/event/colour-potions/
LOCATION:British Columbia\, Canada
CATEGORIES:Children,Families
ATTACH;FMTTYPE=image/png:https://virl.bc.ca/wp-content/uploads/2024/08/Magical-Teen-Lock-In-Image.png
END:VEVENT
END:VCALENDAR