BEGIN:VCALENDAR
VERSION:2.0
PRODID:-//Vancouver Island Regional Library - ECPv5.16.4//NONSGML v1.0//EN
CALSCALE:GREGORIAN
METHOD:PUBLISH
X-WR-CALNAME:Vancouver Island Regional Library
X-ORIGINAL-URL:https://virl.bc.ca
X-WR-CALDESC:Events for Vancouver Island Regional Library
BEGIN:VTIMEZONE
TZID:America/Vancouver
BEGIN:DAYLIGHT
TZOFFSETFROM:-0800
TZOFFSETTO:-0700
TZNAME:PDT
DTSTART:20250309T100000
END:DAYLIGHT
BEGIN:STANDARD
TZOFFSETFROM:-0700
TZOFFSETTO:-0800
TZNAME:PST
DTSTART:20251102T090000
END:STANDARD
END:VTIMEZONE
BEGIN:VEVENT
DTSTART;TZID=America/Vancouver:20251022T153000
DTEND;TZID=America/Vancouver:20251022T170000
DTSTAMP:20260420T085929
CREATED:20251003T192720Z
LAST-MODIFIED:20251003T192720Z
UID:186148-1761147000-1761152400@virl.bc.ca
SUMMARY:Halloween Escape Room
DESCRIPTION:Can you solve the mystery of the disappearances and murders at Nevermore Academy in time? Search the library for clues and work together to solve them before time runs out! \nAll ages are welcome for these events! Assemble your team and register for your preferred timeslot. \nPre-registration required. Call 250-637-2247 or pop into the branch to claim your time. Alternative timeslots may be available on request. \nNote: A device with QR code reading ability is required. Bring your own or borrow one from the branch.
URL:https://virl.bc.ca/event/halloween-escape-room/
LOCATION:British Columbia\, Canada
CATEGORIES:Adults,Children,Teens
ATTACH;FMTTYPE=image/png:https://virl.bc.ca/wp-content/uploads/2025/10/Escape-Room-1.png
END:VEVENT
END:VCALENDAR