BEGIN:VCALENDAR
VERSION:2.0
PRODID:-//Vancouver Island Regional Library - ECPv5.16.4//NONSGML v1.0//EN
CALSCALE:GREGORIAN
METHOD:PUBLISH
X-WR-CALNAME:Vancouver Island Regional Library
X-ORIGINAL-URL:https://virl.bc.ca
X-WR-CALDESC:Events for Vancouver Island Regional Library
BEGIN:VTIMEZONE
TZID:America/Vancouver
BEGIN:DAYLIGHT
TZOFFSETFROM:-0800
TZOFFSETTO:-0700
TZNAME:PDT
DTSTART:20250309T100000
END:DAYLIGHT
BEGIN:STANDARD
TZOFFSETFROM:-0700
TZOFFSETTO:-0800
TZNAME:PST
DTSTART:20251102T090000
END:STANDARD
END:VTIMEZONE
BEGIN:VEVENT
DTSTART;TZID=America/Vancouver:20251021T150000
DTEND;TZID=America/Vancouver:20251021T170000
DTSTAMP:20260420T084722
CREATED:20251021T214724Z
LAST-MODIFIED:20251021T215027Z
UID:187360-1761058800-1761066000@virl.bc.ca
SUMMARY:Lego Club
DESCRIPTION:Drop in to the meeting room and use our mountains of Lego to let your imagination fly!  Challenge cards will inspire your creations.  Open to all ages.
URL:https://virl.bc.ca/event/lego-club-2/2025-10-21/
LOCATION:British Columbia\, Canada
CATEGORIES:Children,Teens & Tweens
ATTACH;FMTTYPE=image/jpeg:https://virl.bc.ca/wp-content/uploads/2018/12/AdobeStock_179865294-1-e1545086575129.jpeg
END:VEVENT
BEGIN:VEVENT
DTSTART;TZID=America/Vancouver:20251021T160000
DTEND;TZID=America/Vancouver:20251021T170000
DTSTAMP:20260420T084722
CREATED:20251017T002027Z
LAST-MODIFIED:20251124T232017Z
UID:187100-1761062400-1761066000@virl.bc.ca
SUMMARY:Kids Club
DESCRIPTION:Drop by the library to create\, play\, and experiment with us! We will be doing a different activity every week – November 25 we will be making holiday cards and writing letters to Santa! \nFree drop-in\, aimed at school age kids but all ages welcome with caregiver. Kids club will run weekly on Tuesdays from October 21 to November 25.
URL:https://virl.bc.ca/event/kids-club/
LOCATION:British Columbia
CATEGORIES:Children,Families
ATTACH;FMTTYPE=image/png:https://virl.bc.ca/wp-content/uploads/2020/02/Untitled-design-2020-02-12T134152.651.png
END:VEVENT
END:VCALENDAR