BEGIN:VCALENDAR
VERSION:2.0
PRODID:-//Vancouver Island Regional Library - ECPv5.16.4//NONSGML v1.0//EN
CALSCALE:GREGORIAN
METHOD:PUBLISH
X-WR-CALNAME:Vancouver Island Regional Library
X-ORIGINAL-URL:https://virl.bc.ca
X-WR-CALDESC:Events for Vancouver Island Regional Library
BEGIN:VTIMEZONE
TZID:America/Vancouver
BEGIN:DAYLIGHT
TZOFFSETFROM:-0800
TZOFFSETTO:-0700
TZNAME:PDT
DTSTART:20250309T100000
END:DAYLIGHT
BEGIN:STANDARD
TZOFFSETFROM:-0700
TZOFFSETTO:-0800
TZNAME:PST
DTSTART:20251102T090000
END:STANDARD
END:VTIMEZONE
BEGIN:VEVENT
DTSTART;TZID=America/Vancouver:20251009T103000
DTEND;TZID=America/Vancouver:20251009T110000
DTSTAMP:20260420T085605
CREATED:20251003T194023Z
LAST-MODIFIED:20260416T191830Z
UID:186142-1760005800-1760007600@virl.bc.ca
SUMMARY:Babytime
DESCRIPTION:Join us for this fun event for you and your baby! Learn songs\, rhymes\, and bounces that your baby will love and that will encourage their language development. Stay and play afterwards to connect with other families. For babies a year and under and their caregivers.
URL:https://virl.bc.ca/event/babytime-3/2025-10-09/
LOCATION:British Columbia\, Canada
CATEGORIES:Children,Families
ATTACH;FMTTYPE=image/png:https://virl.bc.ca/wp-content/uploads/2019/09/Untitled-design-2019-12-13T143621.943.png
END:VEVENT
END:VCALENDAR