BEGIN:VCALENDAR
VERSION:2.0
PRODID:-//Vancouver Island Regional Library - ECPv5.16.4//NONSGML v1.0//EN
CALSCALE:GREGORIAN
METHOD:PUBLISH
X-WR-CALNAME:Vancouver Island Regional Library
X-ORIGINAL-URL:https://virl.bc.ca
X-WR-CALDESC:Events for Vancouver Island Regional Library
BEGIN:VTIMEZONE
TZID:America/Vancouver
BEGIN:DAYLIGHT
TZOFFSETFROM:-0800
TZOFFSETTO:-0700
TZNAME:PDT
DTSTART:20260308T100000
END:DAYLIGHT
BEGIN:STANDARD
TZOFFSETFROM:-0700
TZOFFSETTO:-0800
TZNAME:PST
DTSTART:20261101T090000
END:STANDARD
END:VTIMEZONE
BEGIN:VEVENT
DTSTART;VALUE=DATE:20260224
DTEND;VALUE=DATE:20260225
DTSTAMP:20260420T034509
CREATED:20260129T203725Z
LAST-MODIFIED:20260129T203725Z
UID:194554-1771891200-1771977599@virl.bc.ca
SUMMARY:Freedom to Read Scavenger Hunt
DESCRIPTION:Looking for something fun to do?\nCheck out our scavenger hunt! Search the library for the hidden images and solve the riddle to be entered into a prize draw! Check back often for a new theme!
URL:https://virl.bc.ca/event/freedom-to-read-scavenger-hunt/2026-02-24/
LOCATION:In Branch\, British Columbia\, Canada
CATEGORIES:Children,Families
ATTACH;FMTTYPE=image/png:https://virl.bc.ca/wp-content/uploads/2026/01/3.png
END:VEVENT
BEGIN:VEVENT
DTSTART;TZID=America/Vancouver:20260224T103000
DTEND;TZID=America/Vancouver:20260224T110000
DTSTAMP:20260420T034509
CREATED:20220428T221041Z
LAST-MODIFIED:20260309T170816Z
UID:193240-1771929000-1771930800@virl.bc.ca
SUMMARY:Qualicum Beach Tuesday Storytime
DESCRIPTION:Join Nathan for a family storytime\, geared for pre-school ages\, but all are welcome. Drop-in\, no registration required. \n  \n 
URL:https://virl.bc.ca/event/qualicum-beach-family-storytime-2022-12-06/2026-02-24/
LOCATION:In Branch\, British Columbia\, Canada
CATEGORIES:Children,Families
ATTACH;FMTTYPE=image/jpeg:https://virl.bc.ca/wp-content/uploads/2018/11/160611-VIRL-HAP_4122-e1543350712656.jpg
ORGANIZER;CN="Nathan%20McKay":MAILTO:nmckay@virl.bc.ca
END:VEVENT
BEGIN:VEVENT
DTSTART;TZID=America/Vancouver:20260224T103000
DTEND;TZID=America/Vancouver:20260224T110000
DTSTAMP:20260420T034509
CREATED:20251210T210045Z
LAST-MODIFIED:20251210T210045Z
UID:190504-1771929000-1771930800@virl.bc.ca
SUMMARY:Family Storytime
DESCRIPTION:Join us for an half hour of live-action storytime fun. We’ll shake our shakers\, wave our scarves\, sing songs\, and\, of course read an excellent book or two. This is a free drop-in program for families.
URL:https://virl.bc.ca/event/family-storytime-3-2026-02-24/
LOCATION:British Columbia\, Canada
CATEGORIES:Children,Families
ATTACH;FMTTYPE=image/png:https://virl.bc.ca/wp-content/uploads/2024/12/QI-Family-Storytime-Media-Winter-2025-e1736284956225.png
END:VEVENT
BEGIN:VEVENT
DTSTART;TZID=America/Vancouver:20260224T103000
DTEND;TZID=America/Vancouver:20260224T110000
DTSTAMP:20260420T034509
CREATED:20251210T232055Z
LAST-MODIFIED:20260410T160137Z
UID:190549-1771929000-1771930800@virl.bc.ca
SUMMARY:Family Storytime
DESCRIPTION:Join our Staff for 30 minutes of live-action storytime fun! We’ll shake our shakers\, wave our scarves\, sing songs\, and of course read an excellent book or two. This is a free drop-in program for families.
URL:https://virl.bc.ca/event/family-storytime-3/2026-02-24/
LOCATION:In Branch\, British Columbia\, Canada
CATEGORIES:Families
ATTACH;FMTTYPE=image/png:https://virl.bc.ca/wp-content/uploads/2026/04/QI-Family-Storytime-banner3.png
END:VEVENT
BEGIN:VEVENT
DTSTART;TZID=America/Vancouver:20260224T110000
DTEND;TZID=America/Vancouver:20260224T113000
DTSTAMP:20260420T034509
CREATED:20250906T200244Z
LAST-MODIFIED:20250906T200244Z
UID:186487-1771930800-1771932600@virl.bc.ca
SUMMARY:Storytime at Port Hardy Library
DESCRIPTION:New time!! Join us for storytime every day – Tuesday through Saturday – at 11:00.\nNo need to register in advance\, just stop by. It’s free and everyone is welcome!
URL:https://virl.bc.ca/event/storytime-at-the-port-hardy-library-2/2026-02-24/
LOCATION:In Branch\, British Columbia\, Canada
CATEGORIES:Children,Families
ATTACH;FMTTYPE=image/png:https://virl.bc.ca/wp-content/uploads/2025/08/Screenshot-2025-09-06-125907.png
END:VEVENT
BEGIN:VEVENT
DTSTART;TZID=America/Vancouver:20260224T140000
DTEND;TZID=America/Vancouver:20260224T170000
DTSTAMP:20260420T034509
CREATED:20190612T215630Z
LAST-MODIFIED:20250326T194652Z
UID:172759-1771941600-1771952400@virl.bc.ca
SUMMARY:LEGO® Club
DESCRIPTION:We provide the LEGO (and Duplo) and you provide the imagination every Tuesday afternoon. Come ready to build! \nThis is a free\, drop-in event.
URL:https://virl.bc.ca/event/lego-club-14/2026-02-24/
LOCATION:In Branch\, British Columbia\, Canada
CATEGORIES:Children,Families
ATTACH;FMTTYPE=image/jpeg:https://virl.bc.ca/wp-content/uploads/2018/12/AdobeStock_179865294-1-e1545086575129.jpeg
END:VEVENT
BEGIN:VEVENT
DTSTART;TZID=America/Vancouver:20260224T153000
DTEND;TZID=America/Vancouver:20260224T170000
DTSTAMP:20260420T034509
CREATED:20240823T222021Z
LAST-MODIFIED:20240823T222021Z
UID:176478-1771947000-1771952400@virl.bc.ca
SUMMARY:Sooke LEGO® Club
DESCRIPTION:Drop in for some weekly LEGO® building fun at LEGO® Club! We provide the LEGO® (and Duplo) and you provide the imagination every Tuesday afternoon. Connect with other kids and break out the bricks for a building bonanza at the library. Best suited for ages 6-12. Children under 10 must be accompanied by an adult. \nThis is a free\, drop-in event. Come ready to build!
URL:https://virl.bc.ca/event/sooke-lego-club/2026-02-24/
LOCATION:British Columbia\, Canada
CATEGORIES:Children,Families
ATTACH;FMTTYPE=image/jpeg:https://virl.bc.ca/wp-content/uploads/2018/12/AdobeStock_179865294-1-e1545086575129.jpeg
END:VEVENT
END:VCALENDAR