BEGIN:VCALENDAR
VERSION:2.0
PRODID:-//Vancouver Island Regional Library - ECPv5.16.4//NONSGML v1.0//EN
CALSCALE:GREGORIAN
METHOD:PUBLISH
X-WR-CALNAME:Vancouver Island Regional Library
X-ORIGINAL-URL:https://virl.bc.ca
X-WR-CALDESC:Events for Vancouver Island Regional Library
BEGIN:VTIMEZONE
TZID:America/Vancouver
BEGIN:DAYLIGHT
TZOFFSETFROM:-0800
TZOFFSETTO:-0700
TZNAME:PDT
DTSTART:20260308T100000
END:DAYLIGHT
BEGIN:STANDARD
TZOFFSETFROM:-0700
TZOFFSETTO:-0800
TZNAME:PST
DTSTART:20261101T090000
END:STANDARD
END:VTIMEZONE
BEGIN:VEVENT
DTSTART;VALUE=DATE:20260218
DTEND;VALUE=DATE:20260219
DTSTAMP:20260420T034508
CREATED:20260129T203725Z
LAST-MODIFIED:20260129T203725Z
UID:194548-1771372800-1771459199@virl.bc.ca
SUMMARY:Freedom to Read Scavenger Hunt
DESCRIPTION:Looking for something fun to do?\nCheck out our scavenger hunt! Search the library for the hidden images and solve the riddle to be entered into a prize draw! Check back often for a new theme!
URL:https://virl.bc.ca/event/freedom-to-read-scavenger-hunt/2026-02-18/
LOCATION:In Branch\, British Columbia\, Canada
CATEGORIES:Children,Families
ATTACH;FMTTYPE=image/png:https://virl.bc.ca/wp-content/uploads/2026/01/3.png
END:VEVENT
BEGIN:VEVENT
DTSTART;VALUE=DATE:20260218
DTEND;VALUE=DATE:20260219
DTSTAMP:20260420T034508
CREATED:20260130T225257Z
LAST-MODIFIED:20260130T225257Z
UID:194354-1771372800-1771459199@virl.bc.ca
SUMMARY:Streaming the Olympics
DESCRIPTION:CBC is partnering with libraries across Canada to support live viewing of the Olympic and Paralympic Games. Come cheer on our Canadian athletes! Visit https://virl.bc.ca/milano-cortina/ for more info. \n 
URL:https://virl.bc.ca/event/streaming-the-olympics/2026-02-18/
LOCATION:In Branch CBC Stream\, British Columbia\, Canada
CATEGORIES:Adults,Children,Everyone,Families,Seniors,Teens & Tweens
ATTACH;FMTTYPE=image/jpeg:https://virl.bc.ca/wp-content/uploads/2026/01/milano-cortina-olympics-banner2.jpg
END:VEVENT
BEGIN:VEVENT
DTSTART;VALUE=DATE:20260218
DTEND;VALUE=DATE:20260219
DTSTAMP:20260420T034508
CREATED:20260210T004742Z
LAST-MODIFIED:20260210T004742Z
UID:194893-1771372800-1771459199@virl.bc.ca
SUMMARY:Streaming Olympics
DESCRIPTION:CBC is partnering with libraries across Canada to support live viewing of the Olympic and Paralympic Games. Come cheer on our Canadian athletes! Visit https://virl.bc.ca/milano-cortina/ for more info.
URL:https://virl.bc.ca/event/streaming-olympics/2026-02-18/
LOCATION:In Branch CBC Stream\, British Columbia\, Canada
CATEGORIES:Adults,Children,Everyone,Families
ATTACH;FMTTYPE=image/jpeg:https://virl.bc.ca/wp-content/uploads/2026/01/milano-cortina-olympics-banner2.jpg
END:VEVENT
BEGIN:VEVENT
DTSTART;TZID=America/Vancouver:20260218T103000
DTEND;TZID=America/Vancouver:20260218T110000
DTSTAMP:20260420T034508
CREATED:20181108T004932Z
LAST-MODIFIED:20251128T194049Z
UID:189270-1771410600-1771412400@virl.bc.ca
SUMMARY:Babytime
DESCRIPTION:Learn songs\, rhymes\, stories and skills you can use to help your baby get a start on literacy. For ages 0 to 24 months. Children of all abilities and their siblings are welcome.
URL:https://virl.bc.ca/event/babytime/2026-02-18/
LOCATION:British Columbia\, Canada
CATEGORIES:Children,Families
ATTACH;FMTTYPE=image/jpeg:https://virl.bc.ca/wp-content/uploads/2018/11/babytime-baby-storytime-dad.jpg
END:VEVENT
BEGIN:VEVENT
DTSTART;TZID=America/Vancouver:20260218T103000
DTEND;TZID=America/Vancouver:20260218T110000
DTSTAMP:20260420T034508
CREATED:20250829T224558Z
LAST-MODIFIED:20250829T224558Z
UID:183140-1771410600-1771412400@virl.bc.ca
SUMMARY:Family Storytime
DESCRIPTION:Join us for stories\, songs\, fingerplays\, felt activities and more.  Geared towards children aged 0 – 5 years and their families. Drop in\, all are welcome!
URL:https://virl.bc.ca/event/family-storytime-7/2026-02-18/
LOCATION:British Columbia
CATEGORIES:Children,Families
ATTACH;FMTTYPE=image/png:https://virl.bc.ca/wp-content/uploads/2022/09/OctStorytimeWeb-1200-×-628-px-1.png
END:VEVENT
BEGIN:VEVENT
DTSTART;TZID=America/Vancouver:20260218T103000
DTEND;TZID=America/Vancouver:20260218T110000
DTSTAMP:20260420T034508
CREATED:20251003T184401Z
LAST-MODIFIED:20251204T210551Z
UID:189788-1771410600-1771412400@virl.bc.ca
SUMMARY:Family Storytime
DESCRIPTION:Join us for songs\, stories and fun! This is a free drop-in program for children aged 0 – 5 years and their caregivers. Playtime afterward.
URL:https://virl.bc.ca/event/family-storytime/2026-02-18/
LOCATION:In Branch\, British Columbia\, Canada
CATEGORIES:Children,Families
ATTACH;FMTTYPE=image/jpeg:https://virl.bc.ca/wp-content/uploads/2024/11/family-2-scaled-e1765580020192.jpg
END:VEVENT
BEGIN:VEVENT
DTSTART;TZID=America/Vancouver:20260218T110000
DTEND;TZID=America/Vancouver:20260218T113000
DTSTAMP:20260420T034508
CREATED:20250906T200244Z
LAST-MODIFIED:20250906T200244Z
UID:186483-1771412400-1771414200@virl.bc.ca
SUMMARY:Storytime at Port Hardy Library
DESCRIPTION:New time!! Join us for storytime every day – Tuesday through Saturday – at 11:00.\nNo need to register in advance\, just stop by. It’s free and everyone is welcome!
URL:https://virl.bc.ca/event/storytime-at-the-port-hardy-library-2/2026-02-18/
LOCATION:In Branch\, British Columbia\, Canada
CATEGORIES:Children,Families
ATTACH;FMTTYPE=image/png:https://virl.bc.ca/wp-content/uploads/2025/08/Screenshot-2025-09-06-125907.png
END:VEVENT
BEGIN:VEVENT
DTSTART;TZID=America/Vancouver:20260218T143000
DTEND;TZID=America/Vancouver:20260218T163000
DTSTAMP:20260420T034508
CREATED:20251210T193740Z
LAST-MODIFIED:20260328T171231Z
UID:190134-1771425000-1771432200@virl.bc.ca
SUMMARY:Lego® Club
DESCRIPTION:Calling all architects! Bring your construction skills and we’ll provide the LEGO.
URL:https://virl.bc.ca/event/lego-club-5/2026-02-18/
LOCATION:British Columbia\, Canada
CATEGORIES:Children,Families
ATTACH;FMTTYPE=image/jpeg:https://virl.bc.ca/wp-content/uploads/2018/12/AdobeStock_179865294-e1674163680762.jpeg
END:VEVENT
BEGIN:VEVENT
DTSTART;TZID=America/Vancouver:20260218T151500
DTEND;TZID=America/Vancouver:20260218T161500
DTSTAMP:20260420T034508
CREATED:20260122T211555Z
LAST-MODIFIED:20260122T211555Z
UID:193462-1771427700-1771431300@virl.bc.ca
SUMMARY:February Puppet Show
DESCRIPTION:Join us for two love-themed puppet shows!
URL:https://virl.bc.ca/event/february-puppet-show/
LOCATION:Masset Library\, 1700 Hodges Avenue\, Masset\, British Columbia\, V0T 1M0\, Canada
CATEGORIES:Families
ATTACH;FMTTYPE=image/jpeg:https://virl.bc.ca/wp-content/uploads/2019/03/iStock-862188626-e1676403543204.jpg
ORGANIZER;CN="Etchi%20Zaleski":MAILTO:jzaleski@virl.bc.ca
END:VEVENT
BEGIN:VEVENT
DTSTART;TZID=America/Vancouver:20260218T153000
DTEND;TZID=America/Vancouver:20260218T163000
DTSTAMP:20260420T034508
CREATED:20250205T214054Z
LAST-MODIFIED:20250205T214054Z
UID:194179-1771428600-1771432200@virl.bc.ca
SUMMARY:LEGO Club
DESCRIPTION:Join us for LEGO Club! \n  \nDrop in to create anything you can imagine or follow the themed prompt and have your creations displayed in the library! \n  \nChildren must be accompanied by an adult for the duration of the program.
URL:https://virl.bc.ca/event/lego-club-4/2026-02-18/
LOCATION:British Columbia\, Canada
CATEGORIES:Children,Families
ATTACH;FMTTYPE=image/jpeg:https://virl.bc.ca/wp-content/uploads/2018/12/AdobeStock_179865294-e1674163680762.jpeg
END:VEVENT
END:VCALENDAR