BEGIN:VCALENDAR
VERSION:2.0
PRODID:-//Vancouver Island Regional Library - ECPv5.16.4//NONSGML v1.0//EN
CALSCALE:GREGORIAN
METHOD:PUBLISH
X-WR-CALNAME:Vancouver Island Regional Library
X-ORIGINAL-URL:https://virl.bc.ca
X-WR-CALDESC:Events for Vancouver Island Regional Library
BEGIN:VTIMEZONE
TZID:America/Vancouver
BEGIN:DAYLIGHT
TZOFFSETFROM:-0800
TZOFFSETTO:-0700
TZNAME:PDT
DTSTART:20260308T100000
END:DAYLIGHT
BEGIN:STANDARD
TZOFFSETFROM:-0700
TZOFFSETTO:-0800
TZNAME:PST
DTSTART:20261101T090000
END:STANDARD
END:VTIMEZONE
BEGIN:VEVENT
DTSTART;VALUE=DATE:20260217
DTEND;VALUE=DATE:20260218
DTSTAMP:20260420T034449
CREATED:20260129T203725Z
LAST-MODIFIED:20260129T203725Z
UID:194547-1771286400-1771372799@virl.bc.ca
SUMMARY:Freedom to Read Scavenger Hunt
DESCRIPTION:Looking for something fun to do?\nCheck out our scavenger hunt! Search the library for the hidden images and solve the riddle to be entered into a prize draw! Check back often for a new theme!
URL:https://virl.bc.ca/event/freedom-to-read-scavenger-hunt/2026-02-17/
LOCATION:In Branch\, British Columbia\, Canada
CATEGORIES:Children,Families
ATTACH;FMTTYPE=image/png:https://virl.bc.ca/wp-content/uploads/2026/01/3.png
END:VEVENT
BEGIN:VEVENT
DTSTART;VALUE=DATE:20260217
DTEND;VALUE=DATE:20260218
DTSTAMP:20260420T034449
CREATED:20260130T225257Z
LAST-MODIFIED:20260130T225257Z
UID:194353-1771286400-1771372799@virl.bc.ca
SUMMARY:Streaming the Olympics
DESCRIPTION:CBC is partnering with libraries across Canada to support live viewing of the Olympic and Paralympic Games. Come cheer on our Canadian athletes! Visit https://virl.bc.ca/milano-cortina/ for more info. \n 
URL:https://virl.bc.ca/event/streaming-the-olympics/2026-02-17/
LOCATION:In Branch CBC Stream\, British Columbia\, Canada
CATEGORIES:Adults,Children,Everyone,Families,Seniors,Teens & Tweens
ATTACH;FMTTYPE=image/jpeg:https://virl.bc.ca/wp-content/uploads/2026/01/milano-cortina-olympics-banner2.jpg
END:VEVENT
BEGIN:VEVENT
DTSTART;VALUE=DATE:20260217
DTEND;VALUE=DATE:20260218
DTSTAMP:20260420T034449
CREATED:20260210T004742Z
LAST-MODIFIED:20260210T004742Z
UID:194892-1771286400-1771372799@virl.bc.ca
SUMMARY:Streaming Olympics
DESCRIPTION:CBC is partnering with libraries across Canada to support live viewing of the Olympic and Paralympic Games. Come cheer on our Canadian athletes! Visit https://virl.bc.ca/milano-cortina/ for more info.
URL:https://virl.bc.ca/event/streaming-olympics/2026-02-17/
LOCATION:In Branch CBC Stream\, British Columbia\, Canada
CATEGORIES:Adults,Children,Everyone,Families
ATTACH;FMTTYPE=image/jpeg:https://virl.bc.ca/wp-content/uploads/2026/01/milano-cortina-olympics-banner2.jpg
END:VEVENT
BEGIN:VEVENT
DTSTART;TZID=America/Vancouver:20260217T080000
DTEND;TZID=America/Vancouver:20260217T170000
DTSTAMP:20260420T034449
CREATED:20260206T222814Z
LAST-MODIFIED:20260206T222814Z
UID:194870-1771315200-1771347600@virl.bc.ca
SUMMARY:Big Dreamer Storywalk
DESCRIPTION:Big Dreamer is a beautifully illustrated children’s book by Sophie Dick is written in both Liq̓ʷala  and English. This storywalk will be set up along Community Garden at Cape Mudge from February 10th until February 17th. \nPresented in Partnership with the Quadra Island Literacy Network.
URL:https://virl.bc.ca/event/big-dreamer-storywalk-2/2026-02-17/
LOCATION:In Branch\, British Columbia\, Canada
CATEGORIES:Everyone,Families
ATTACH;FMTTYPE=image/jpeg:https://virl.bc.ca/wp-content/uploads/2026/01/DREAMER_page-0001-scaled-e1769624854187.jpg
END:VEVENT
BEGIN:VEVENT
DTSTART;TZID=America/Vancouver:20260217T103000
DTEND;TZID=America/Vancouver:20260217T110000
DTSTAMP:20260420T034449
CREATED:20220428T221041Z
LAST-MODIFIED:20260309T170816Z
UID:193239-1771324200-1771326000@virl.bc.ca
SUMMARY:Qualicum Beach Tuesday Storytime
DESCRIPTION:Join Nathan for a family storytime\, geared for pre-school ages\, but all are welcome. Drop-in\, no registration required. \n  \n 
URL:https://virl.bc.ca/event/qualicum-beach-family-storytime-2022-12-06/2026-02-17/
LOCATION:In Branch\, British Columbia\, Canada
CATEGORIES:Children,Families
ATTACH;FMTTYPE=image/jpeg:https://virl.bc.ca/wp-content/uploads/2018/11/160611-VIRL-HAP_4122-e1543350712656.jpg
ORGANIZER;CN="Nathan%20McKay":MAILTO:nmckay@virl.bc.ca
END:VEVENT
BEGIN:VEVENT
DTSTART;TZID=America/Vancouver:20260217T103000
DTEND;TZID=America/Vancouver:20260217T110000
DTSTAMP:20260420T034449
CREATED:20251210T210045Z
LAST-MODIFIED:20251210T210045Z
UID:190503-1771324200-1771326000@virl.bc.ca
SUMMARY:Family Storytime
DESCRIPTION:Join us for an half hour of live-action storytime fun. We’ll shake our shakers\, wave our scarves\, sing songs\, and\, of course read an excellent book or two. This is a free drop-in program for families.
URL:https://virl.bc.ca/event/family-storytime-3-2026-02-17/
LOCATION:British Columbia\, Canada
CATEGORIES:Children,Families
ATTACH;FMTTYPE=image/png:https://virl.bc.ca/wp-content/uploads/2024/12/QI-Family-Storytime-Media-Winter-2025-e1736284956225.png
END:VEVENT
BEGIN:VEVENT
DTSTART;TZID=America/Vancouver:20260217T103000
DTEND;TZID=America/Vancouver:20260217T110000
DTSTAMP:20260420T034449
CREATED:20251210T232055Z
LAST-MODIFIED:20260410T160137Z
UID:190548-1771324200-1771326000@virl.bc.ca
SUMMARY:Family Storytime
DESCRIPTION:Join our Staff for 30 minutes of live-action storytime fun! We’ll shake our shakers\, wave our scarves\, sing songs\, and of course read an excellent book or two. This is a free drop-in program for families.
URL:https://virl.bc.ca/event/family-storytime-3/2026-02-17/
LOCATION:In Branch\, British Columbia\, Canada
CATEGORIES:Families
ATTACH;FMTTYPE=image/png:https://virl.bc.ca/wp-content/uploads/2026/04/QI-Family-Storytime-banner3.png
END:VEVENT
BEGIN:VEVENT
DTSTART;TZID=America/Vancouver:20260217T110000
DTEND;TZID=America/Vancouver:20260217T113000
DTSTAMP:20260420T034449
CREATED:20250906T200244Z
LAST-MODIFIED:20250906T200244Z
UID:186482-1771326000-1771327800@virl.bc.ca
SUMMARY:Storytime at Port Hardy Library
DESCRIPTION:New time!! Join us for storytime every day – Tuesday through Saturday – at 11:00.\nNo need to register in advance\, just stop by. It’s free and everyone is welcome!
URL:https://virl.bc.ca/event/storytime-at-the-port-hardy-library-2/2026-02-17/
LOCATION:In Branch\, British Columbia\, Canada
CATEGORIES:Children,Families
ATTACH;FMTTYPE=image/png:https://virl.bc.ca/wp-content/uploads/2025/08/Screenshot-2025-09-06-125907.png
END:VEVENT
BEGIN:VEVENT
DTSTART;TZID=America/Vancouver:20260217T140000
DTEND;TZID=America/Vancouver:20260217T170000
DTSTAMP:20260420T034449
CREATED:20190612T215630Z
LAST-MODIFIED:20250326T194652Z
UID:172386-1771336800-1771347600@virl.bc.ca
SUMMARY:LEGO® Club
DESCRIPTION:We provide the LEGO (and Duplo) and you provide the imagination every Tuesday afternoon. Come ready to build! \nThis is a free\, drop-in event.
URL:https://virl.bc.ca/event/lego-club-14/2026-02-17/
LOCATION:In Branch\, British Columbia\, Canada
CATEGORIES:Children,Families
ATTACH;FMTTYPE=image/jpeg:https://virl.bc.ca/wp-content/uploads/2018/12/AdobeStock_179865294-1-e1545086575129.jpeg
END:VEVENT
BEGIN:VEVENT
DTSTART;TZID=America/Vancouver:20260217T153000
DTEND;TZID=America/Vancouver:20260217T170000
DTSTAMP:20260420T034449
CREATED:20240823T222021Z
LAST-MODIFIED:20240823T222021Z
UID:176477-1771342200-1771347600@virl.bc.ca
SUMMARY:Sooke LEGO® Club
DESCRIPTION:Drop in for some weekly LEGO® building fun at LEGO® Club! We provide the LEGO® (and Duplo) and you provide the imagination every Tuesday afternoon. Connect with other kids and break out the bricks for a building bonanza at the library. Best suited for ages 6-12. Children under 10 must be accompanied by an adult. \nThis is a free\, drop-in event. Come ready to build!
URL:https://virl.bc.ca/event/sooke-lego-club/2026-02-17/
LOCATION:British Columbia\, Canada
CATEGORIES:Children,Families
ATTACH;FMTTYPE=image/jpeg:https://virl.bc.ca/wp-content/uploads/2018/12/AdobeStock_179865294-1-e1545086575129.jpeg
END:VEVENT
END:VCALENDAR