BEGIN:VCALENDAR
VERSION:2.0
PRODID:-//Vancouver Island Regional Library - ECPv5.16.4//NONSGML v1.0//EN
CALSCALE:GREGORIAN
METHOD:PUBLISH
X-WR-CALNAME:Vancouver Island Regional Library
X-ORIGINAL-URL:https://virl.bc.ca
X-WR-CALDESC:Events for Vancouver Island Regional Library
BEGIN:VTIMEZONE
TZID:America/Vancouver
BEGIN:DAYLIGHT
TZOFFSETFROM:-0800
TZOFFSETTO:-0700
TZNAME:PDT
DTSTART:20260308T100000
END:DAYLIGHT
BEGIN:STANDARD
TZOFFSETFROM:-0700
TZOFFSETTO:-0800
TZNAME:PST
DTSTART:20261101T090000
END:STANDARD
END:VTIMEZONE
BEGIN:VEVENT
DTSTART;VALUE=DATE:20260215
DTEND;VALUE=DATE:20260216
DTSTAMP:20260420T035704
CREATED:20260129T203725Z
LAST-MODIFIED:20260129T203725Z
UID:194545-1771113600-1771199999@virl.bc.ca
SUMMARY:Freedom to Read Scavenger Hunt
DESCRIPTION:Looking for something fun to do?\nCheck out our scavenger hunt! Search the library for the hidden images and solve the riddle to be entered into a prize draw! Check back often for a new theme!
URL:https://virl.bc.ca/event/freedom-to-read-scavenger-hunt/2026-02-15/
LOCATION:In Branch\, British Columbia\, Canada
CATEGORIES:Children,Families
ATTACH;FMTTYPE=image/png:https://virl.bc.ca/wp-content/uploads/2026/01/3.png
END:VEVENT
BEGIN:VEVENT
DTSTART;VALUE=DATE:20260215
DTEND;VALUE=DATE:20260216
DTSTAMP:20260420T035704
CREATED:20260130T225257Z
LAST-MODIFIED:20260130T225257Z
UID:194351-1771113600-1771199999@virl.bc.ca
SUMMARY:Streaming the Olympics
DESCRIPTION:CBC is partnering with libraries across Canada to support live viewing of the Olympic and Paralympic Games. Come cheer on our Canadian athletes! Visit https://virl.bc.ca/milano-cortina/ for more info. \n 
URL:https://virl.bc.ca/event/streaming-the-olympics/2026-02-15/
LOCATION:In Branch CBC Stream\, British Columbia\, Canada
CATEGORIES:Adults,Children,Everyone,Families,Seniors,Teens & Tweens
ATTACH;FMTTYPE=image/jpeg:https://virl.bc.ca/wp-content/uploads/2026/01/milano-cortina-olympics-banner2.jpg
END:VEVENT
BEGIN:VEVENT
DTSTART;VALUE=DATE:20260215
DTEND;VALUE=DATE:20260216
DTSTAMP:20260420T035704
CREATED:20260210T004742Z
LAST-MODIFIED:20260210T004742Z
UID:194890-1771113600-1771199999@virl.bc.ca
SUMMARY:Streaming Olympics
DESCRIPTION:CBC is partnering with libraries across Canada to support live viewing of the Olympic and Paralympic Games. Come cheer on our Canadian athletes! Visit https://virl.bc.ca/milano-cortina/ for more info.
URL:https://virl.bc.ca/event/streaming-olympics/2026-02-15/
LOCATION:In Branch CBC Stream\, British Columbia\, Canada
CATEGORIES:Adults,Children,Everyone,Families
ATTACH;FMTTYPE=image/jpeg:https://virl.bc.ca/wp-content/uploads/2026/01/milano-cortina-olympics-banner2.jpg
END:VEVENT
BEGIN:VEVENT
DTSTART;TZID=America/Vancouver:20260215T080000
DTEND;TZID=America/Vancouver:20260215T170000
DTSTAMP:20260420T035704
CREATED:20260206T222814Z
LAST-MODIFIED:20260206T222814Z
UID:194868-1771142400-1771174800@virl.bc.ca
SUMMARY:Big Dreamer Storywalk
DESCRIPTION:Big Dreamer is a beautifully illustrated children’s book by Sophie Dick is written in both Liq̓ʷala  and English. This storywalk will be set up along Community Garden at Cape Mudge from February 10th until February 17th. \nPresented in Partnership with the Quadra Island Literacy Network.
URL:https://virl.bc.ca/event/big-dreamer-storywalk-2/2026-02-15/
LOCATION:In Branch\, British Columbia\, Canada
CATEGORIES:Everyone,Families
ATTACH;FMTTYPE=image/jpeg:https://virl.bc.ca/wp-content/uploads/2026/01/DREAMER_page-0001-scaled-e1769624854187.jpg
END:VEVENT
BEGIN:VEVENT
DTSTART;TZID=America/Vancouver:20260215T140000
DTEND;TZID=America/Vancouver:20260215T180000
DTSTAMP:20260420T035704
CREATED:20251029T191659Z
LAST-MODIFIED:20251029T191659Z
UID:187622-1771164000-1771178400@virl.bc.ca
SUMMARY:Sunday Board Game Group
DESCRIPTION:Meet new people or bring your friends/family!  This board game group meets on first and third Sundays from 2-6 pm and is a drop-in event. \nWe have lots of games for you to try and enjoy including: \n\nCatan\n7 Wonders\nAlhambra\nCyclades\nPandemic\nClue\nDune\nSheriff of Nottingham\nAnd many more!
URL:https://virl.bc.ca/event/sunday-board-game-group/2026-02-15/
LOCATION:6250 Hammond Bay Road\, Nanaimo\, BC\, British Columbia\, Canada
CATEGORIES:Adults,Families,Seniors,Teens,Teens & Tweens,Tweens
ATTACH;FMTTYPE=image/jpeg:https://virl.bc.ca/wp-content/uploads/2025/10/BoardGames.jpg
END:VEVENT
BEGIN:VEVENT
DTSTART;TZID=America/Vancouver:20260215T150000
DTEND;TZID=America/Vancouver:20260215T170000
DTSTAMP:20260420T035704
CREATED:20230111T050526Z
LAST-MODIFIED:20260309T183914Z
UID:196777-1771167600-1771174800@virl.bc.ca
SUMMARY:STEAM Tinker Sundays
DESCRIPTION:Families: join us on Sundays for an afternoon of tinkering! Come by and play with Lego\, Keva Planks\, Gravitrax\, 3D Magnetic Builders and more! Explore activities relating to science\, technology\, engineering\, arts and math\, and meet other like-minded people. \nThis is a free\, drop-in event. Best suited for school-aged children and their families.
URL:https://virl.bc.ca/event/tinker/2026-02-15/
LOCATION:Sooke Multipurpose Room\, 6671 Wadams Way\, Sooke\, British Columbia\, V9Z 1A4
CATEGORIES:Children,Families
ATTACH;FMTTYPE=image/jpeg:https://virl.bc.ca/wp-content/uploads/2019/02/iStock-812836812.jpg
END:VEVENT
END:VCALENDAR