BEGIN:VCALENDAR
VERSION:2.0
PRODID:-//Vancouver Island Regional Library - ECPv5.16.4//NONSGML v1.0//EN
CALSCALE:GREGORIAN
METHOD:PUBLISH
X-WR-CALNAME:Vancouver Island Regional Library
X-ORIGINAL-URL:https://virl.bc.ca
X-WR-CALDESC:Events for Vancouver Island Regional Library
BEGIN:VTIMEZONE
TZID:America/Vancouver
BEGIN:DAYLIGHT
TZOFFSETFROM:-0800
TZOFFSETTO:-0700
TZNAME:PDT
DTSTART:20260308T100000
END:DAYLIGHT
BEGIN:STANDARD
TZOFFSETFROM:-0700
TZOFFSETTO:-0800
TZNAME:PST
DTSTART:20261101T090000
END:STANDARD
END:VTIMEZONE
BEGIN:VEVENT
DTSTART;VALUE=DATE:20260214
DTEND;VALUE=DATE:20260215
DTSTAMP:20260420T034500
CREATED:20260129T203725Z
LAST-MODIFIED:20260129T203725Z
UID:194544-1771027200-1771113599@virl.bc.ca
SUMMARY:Freedom to Read Scavenger Hunt
DESCRIPTION:Looking for something fun to do?\nCheck out our scavenger hunt! Search the library for the hidden images and solve the riddle to be entered into a prize draw! Check back often for a new theme!
URL:https://virl.bc.ca/event/freedom-to-read-scavenger-hunt/2026-02-14/
LOCATION:In Branch\, British Columbia\, Canada
CATEGORIES:Children,Families
ATTACH;FMTTYPE=image/png:https://virl.bc.ca/wp-content/uploads/2026/01/3.png
END:VEVENT
BEGIN:VEVENT
DTSTART;VALUE=DATE:20260214
DTEND;VALUE=DATE:20260215
DTSTAMP:20260420T034500
CREATED:20260130T225257Z
LAST-MODIFIED:20260130T225257Z
UID:194350-1771027200-1771113599@virl.bc.ca
SUMMARY:Streaming the Olympics
DESCRIPTION:CBC is partnering with libraries across Canada to support live viewing of the Olympic and Paralympic Games. Come cheer on our Canadian athletes! Visit https://virl.bc.ca/milano-cortina/ for more info. \n 
URL:https://virl.bc.ca/event/streaming-the-olympics/2026-02-14/
LOCATION:In Branch CBC Stream\, British Columbia\, Canada
CATEGORIES:Adults,Children,Everyone,Families,Seniors,Teens & Tweens
ATTACH;FMTTYPE=image/jpeg:https://virl.bc.ca/wp-content/uploads/2026/01/milano-cortina-olympics-banner2.jpg
END:VEVENT
BEGIN:VEVENT
DTSTART;VALUE=DATE:20260214
DTEND;VALUE=DATE:20260215
DTSTAMP:20260420T034500
CREATED:20260210T004742Z
LAST-MODIFIED:20260210T004742Z
UID:194889-1771027200-1771113599@virl.bc.ca
SUMMARY:Streaming Olympics
DESCRIPTION:CBC is partnering with libraries across Canada to support live viewing of the Olympic and Paralympic Games. Come cheer on our Canadian athletes! Visit https://virl.bc.ca/milano-cortina/ for more info.
URL:https://virl.bc.ca/event/streaming-olympics/2026-02-14/
LOCATION:In Branch CBC Stream\, British Columbia\, Canada
CATEGORIES:Adults,Children,Everyone,Families
ATTACH;FMTTYPE=image/jpeg:https://virl.bc.ca/wp-content/uploads/2026/01/milano-cortina-olympics-banner2.jpg
END:VEVENT
BEGIN:VEVENT
DTSTART;TZID=America/Vancouver:20260214T080000
DTEND;TZID=America/Vancouver:20260214T170000
DTSTAMP:20260420T034500
CREATED:20260206T222814Z
LAST-MODIFIED:20260206T222814Z
UID:194867-1771056000-1771088400@virl.bc.ca
SUMMARY:Big Dreamer Storywalk
DESCRIPTION:Big Dreamer is a beautifully illustrated children’s book by Sophie Dick is written in both Liq̓ʷala  and English. This storywalk will be set up along Community Garden at Cape Mudge from February 10th until February 17th. \nPresented in Partnership with the Quadra Island Literacy Network.
URL:https://virl.bc.ca/event/big-dreamer-storywalk-2/2026-02-14/
LOCATION:In Branch\, British Columbia\, Canada
CATEGORIES:Everyone,Families
ATTACH;FMTTYPE=image/jpeg:https://virl.bc.ca/wp-content/uploads/2026/01/DREAMER_page-0001-scaled-e1769624854187.jpg
END:VEVENT
BEGIN:VEVENT
DTSTART;TZID=America/Vancouver:20260214T100000
DTEND;TZID=America/Vancouver:20260214T110000
DTSTAMP:20260420T034500
CREATED:20241005T183222Z
LAST-MODIFIED:20241005T183222Z
UID:193990-1771063200-1771066800@virl.bc.ca
SUMMARY:Family Fun Time
DESCRIPTION:Sooke is hosting a drop-in Family Fun Time on Saturday mornings! We’ll have board games\, puzzles\, STEAM toys and more set up for a range of ages (mostly 0-5). A chance for self-directed play for young ones and social time for caregivers. Stop by and check it out! \nThere’s no need to register for this fun and free event. \nHope to see you here!
URL:https://virl.bc.ca/event/family-fun-time/2026-02-14/
LOCATION:British Columbia\, Canada
CATEGORIES:Children,Families
ATTACH;FMTTYPE=image/png:https://virl.bc.ca/wp-content/uploads/2020/03/Untitled-design-2020-03-06T114730.685.png
END:VEVENT
BEGIN:VEVENT
DTSTART;TZID=America/Vancouver:20260214T103000
DTEND;TZID=America/Vancouver:20260214T120000
DTSTAMP:20260420T034500
CREATED:20220823T225940Z
LAST-MODIFIED:20220823T225940Z
UID:172373-1771065000-1771070400@virl.bc.ca
SUMMARY:Family Play Day
DESCRIPTION:The Courtenay Library is hosting a drop-in play day on Saturday mornings! \nThe program room will be set up with toys & activities for a range of ages (mostly 0-5). A chance for self-directed play for young ones and social time for caregivers. Stop by and check it out!
URL:https://virl.bc.ca/event/family-play-day/2026-02-14/
LOCATION:British Columbia
CATEGORIES:Children,Families
ATTACH;FMTTYPE=image/png:https://virl.bc.ca/wp-content/uploads/2020/03/Untitled-design-2020-03-06T114730.685.png
END:VEVENT
BEGIN:VEVENT
DTSTART;TZID=America/Vancouver:20260214T110000
DTEND;TZID=America/Vancouver:20260214T113000
DTSTAMP:20260420T034500
CREATED:20221028T212940Z
LAST-MODIFIED:20251216T235707Z
UID:172375-1771066800-1771068600@virl.bc.ca
SUMMARY:Family StoryTime
DESCRIPTION:Stories\, rhymes\, action songs\, and more!  Best for 1-4 year olds.  Listening & participating in engaging stories\, songs\, and rhymes help toddlers & preschoolers to develop crucial early language and literacy skills.  Having fun and socializing are also part of every storytime!  See you soon  🙂
URL:https://virl.bc.ca/event/storytime-3/2026-02-14/
LOCATION:In Branch\, British Columbia\, Canada
CATEGORIES:Children,Families
ATTACH;FMTTYPE=image/png:https://virl.bc.ca/wp-content/uploads/2021/11/Storytime-ReturnsWebpage1.png
END:VEVENT
BEGIN:VEVENT
DTSTART;TZID=America/Vancouver:20260214T110000
DTEND;TZID=America/Vancouver:20260214T113000
DTSTAMP:20260420T034500
CREATED:20240823T232258Z
LAST-MODIFIED:20240823T232258Z
UID:193976-1771066800-1771068600@virl.bc.ca
SUMMARY:Sooke All-Ages Family Storytime
DESCRIPTION:Join us at an all-ages family Storytime for songs\, rhymes\, stories\, and more as we shake our sillies out and wiggle our waggles away. Connect with other families and strengthen early literacy skills! Fun for the whole family\, best suited for children 3-12. \nIf you have any questions\, please email us at Sooke@virl.bc.ca.  \nThis is a free\, drop-in program that does not require registration.
URL:https://virl.bc.ca/event/sooke-all-ages-family-storytime/2026-02-14/
LOCATION:British Columbia\, Canada
CATEGORIES:Children,Families
ATTACH;FMTTYPE=image/jpeg:https://virl.bc.ca/wp-content/uploads/2019/01/female-infant-school-teacher-sitting-on-a-chair-936VA5R-e1547230984695.jpg
END:VEVENT
BEGIN:VEVENT
DTSTART;TZID=America/Vancouver:20260214T110000
DTEND;TZID=America/Vancouver:20260214T113000
DTSTAMP:20260420T034500
CREATED:20250906T200244Z
LAST-MODIFIED:20250906T200244Z
UID:186481-1771066800-1771068600@virl.bc.ca
SUMMARY:Storytime at Port Hardy Library
DESCRIPTION:New time!! Join us for storytime every day – Tuesday through Saturday – at 11:00.\nNo need to register in advance\, just stop by. It’s free and everyone is welcome!
URL:https://virl.bc.ca/event/storytime-at-the-port-hardy-library-2/2026-02-14/
LOCATION:In Branch\, British Columbia\, Canada
CATEGORIES:Children,Families
ATTACH;FMTTYPE=image/png:https://virl.bc.ca/wp-content/uploads/2025/08/Screenshot-2025-09-06-125907.png
END:VEVENT
BEGIN:VEVENT
DTSTART;TZID=America/Vancouver:20260214T110000
DTEND;TZID=America/Vancouver:20260214T110000
DTSTAMP:20260420T034500
CREATED:20260121T010311Z
LAST-MODIFIED:20260122T213618Z
UID:192995-1771066800-1771066800@virl.bc.ca
SUMMARY:Lego Club
DESCRIPTION:Join us on Saturdays for Lego Club fun! Find inspiration and friendship while creating something cool. Every Saturday from 11 am to 1 pm.
URL:https://virl.bc.ca/event/lego-club-9/2026-02-14/
LOCATION:British Columbia\, Canada
CATEGORIES:Children,Families,Teens & Tweens,Tweens
ATTACH;FMTTYPE=image/png:https://virl.bc.ca/wp-content/uploads/2026/01/Lego-e1769017306999.png
END:VEVENT
BEGIN:VEVENT
DTSTART;TZID=America/Vancouver:20260214T113000
DTEND;TZID=America/Vancouver:20260214T123000
DTSTAMP:20260420T034500
CREATED:20240917T223145Z
LAST-MODIFIED:20250722T195515Z
UID:181787-1771068600-1771072200@virl.bc.ca
SUMMARY:Sooke Crafts for Kids
DESCRIPTION:Join us Saturdays from 11:30am-12:30pm in our multipurpose room for crafts! This is a free\, drop-in event that does not require registration. Suitable for ages 3-12 years. All ages welcome.
URL:https://virl.bc.ca/event/sooke-crafts-for-kids-2025-09-06/2026-02-14/
LOCATION:British Columbia\, Canada
CATEGORIES:Children,Families
ATTACH;FMTTYPE=image/jpeg:https://virl.bc.ca/wp-content/uploads/2022/07/arts-and-crafts-supplies-e1662748505412.jpg
END:VEVENT
BEGIN:VEVENT
DTSTART;TZID=America/Vancouver:20260214T140000
DTEND;TZID=America/Vancouver:20260214T150000
DTSTAMP:20260420T034500
CREATED:20251213T191427Z
LAST-MODIFIED:20260205T223852Z
UID:66618-1771077600-1771081200@virl.bc.ca
SUMMARY:Paws 4 Stories
DESCRIPTION:Drop in and read a story to licensed St. John Ambulance Therapy Dog\, Pax\, and his handler\, Kattina. ‘Paws4Stories’ is a SJA Therapy Dog Community Service Program that promotes improvement in the reading skills of children.
URL:https://virl.bc.ca/event/paws-4-stories/2026-02-14/
LOCATION:Nanaimo North
CATEGORIES:Children,Families
ATTACH;FMTTYPE=image/png:https://virl.bc.ca/wp-content/uploads/2025/12/Paws4Stories2025-Facebook-Cover.png
END:VEVENT
END:VCALENDAR