BEGIN:VCALENDAR
VERSION:2.0
PRODID:-//Vancouver Island Regional Library - ECPv5.16.4//NONSGML v1.0//EN
CALSCALE:GREGORIAN
METHOD:PUBLISH
X-WR-CALNAME:Vancouver Island Regional Library
X-ORIGINAL-URL:https://virl.bc.ca
X-WR-CALDESC:Events for Vancouver Island Regional Library
BEGIN:VTIMEZONE
TZID:America/Vancouver
BEGIN:DAYLIGHT
TZOFFSETFROM:-0800
TZOFFSETTO:-0700
TZNAME:PDT
DTSTART:20260308T100000
END:DAYLIGHT
BEGIN:STANDARD
TZOFFSETFROM:-0700
TZOFFSETTO:-0800
TZNAME:PST
DTSTART:20261101T090000
END:STANDARD
END:VTIMEZONE
BEGIN:VEVENT
DTSTART;TZID=America/Vancouver:20260117T100000
DTEND;TZID=America/Vancouver:20260117T110000
DTSTAMP:20260421T064705
CREATED:20241005T183222Z
LAST-MODIFIED:20241005T183222Z
UID:193986-1768644000-1768647600@virl.bc.ca
SUMMARY:Family Fun Time
DESCRIPTION:Sooke is hosting a drop-in Family Fun Time on Saturday mornings! We’ll have board games\, puzzles\, STEAM toys and more set up for a range of ages (mostly 0-5). A chance for self-directed play for young ones and social time for caregivers. Stop by and check it out! \nThere’s no need to register for this fun and free event. \nHope to see you here!
URL:https://virl.bc.ca/event/family-fun-time/2026-01-17/
LOCATION:British Columbia\, Canada
CATEGORIES:Children,Families
ATTACH;FMTTYPE=image/png:https://virl.bc.ca/wp-content/uploads/2020/03/Untitled-design-2020-03-06T114730.685.png
END:VEVENT
BEGIN:VEVENT
DTSTART;TZID=America/Vancouver:20260117T103000
DTEND;TZID=America/Vancouver:20260117T120000
DTSTAMP:20260421T064705
CREATED:20220823T225940Z
LAST-MODIFIED:20220823T225940Z
UID:170795-1768645800-1768651200@virl.bc.ca
SUMMARY:Family Play Day
DESCRIPTION:The Courtenay Library is hosting a drop-in play day on Saturday mornings! \nThe program room will be set up with toys & activities for a range of ages (mostly 0-5). A chance for self-directed play for young ones and social time for caregivers. Stop by and check it out!
URL:https://virl.bc.ca/event/family-play-day/2026-01-17/
LOCATION:British Columbia
CATEGORIES:Children,Families
ATTACH;FMTTYPE=image/png:https://virl.bc.ca/wp-content/uploads/2020/03/Untitled-design-2020-03-06T114730.685.png
END:VEVENT
BEGIN:VEVENT
DTSTART;TZID=America/Vancouver:20260117T103000
DTEND;TZID=America/Vancouver:20260117T113000
DTSTAMP:20260421T064705
CREATED:20260113T183827Z
LAST-MODIFIED:20260113T183827Z
UID:192613-1768645800-1768649400@virl.bc.ca
SUMMARY:Winter Holiday Crafts
DESCRIPTION:Join us for fun winter holiday crafts and books. Learn about holidays from cultures around the world. Best suited ages 3-12. \n 
URL:https://virl.bc.ca/event/winter-holiday-crafts/
LOCATION:British Columbia\, Canada
CATEGORIES:Children,Families
ATTACH;FMTTYPE=image/jpeg:https://virl.bc.ca/wp-content/uploads/2018/11/vintage-book-among-christmas-decoration-flat-lay-CWG9XH2-e1543878582855.jpg
END:VEVENT
BEGIN:VEVENT
DTSTART;TZID=America/Vancouver:20260117T103000
DTEND;TZID=America/Vancouver:20260117T120000
DTSTAMP:20260421T064705
CREATED:20260122T204458Z
LAST-MODIFIED:20260215T011035Z
UID:193454-1768645800-1768651200@virl.bc.ca
SUMMARY:Books & Bagels
DESCRIPTION:Drop in for a craft\, bagels & fruit\, and storytime then leave with a brand new picture book!  Brought to you by the Friends of the Gabriola Library\, The Hope Center\, & PacificCare Family Enrichment Society.
URL:https://virl.bc.ca/event/books-bagels/
LOCATION:British Columbia\, Canada
CATEGORIES:Families
ATTACH;FMTTYPE=image/jpeg:https://virl.bc.ca/wp-content/uploads/2023/11/Storytime-6-e1701118526367.jpg
END:VEVENT
BEGIN:VEVENT
DTSTART;TZID=America/Vancouver:20260117T110000
DTEND;TZID=America/Vancouver:20260117T113000
DTSTAMP:20260421T064705
CREATED:20221028T212940Z
LAST-MODIFIED:20251216T235706Z
UID:170797-1768647600-1768649400@virl.bc.ca
SUMMARY:Family StoryTime
DESCRIPTION:Stories\, rhymes\, action songs\, and more!  Best for 1-4 year olds.  Listening & participating in engaging stories\, songs\, and rhymes help toddlers & preschoolers to develop crucial early language and literacy skills.  Having fun and socializing are also part of every storytime!  See you soon  🙂
URL:https://virl.bc.ca/event/storytime-3/2026-01-17/
LOCATION:In Branch\, British Columbia\, Canada
CATEGORIES:Children,Families
ATTACH;FMTTYPE=image/png:https://virl.bc.ca/wp-content/uploads/2021/11/Storytime-ReturnsWebpage1.png
END:VEVENT
BEGIN:VEVENT
DTSTART;TZID=America/Vancouver:20260117T110000
DTEND;TZID=America/Vancouver:20260117T113000
DTSTAMP:20260421T064705
CREATED:20240823T232258Z
LAST-MODIFIED:20240823T232258Z
UID:193972-1768647600-1768649400@virl.bc.ca
SUMMARY:Sooke All-Ages Family Storytime
DESCRIPTION:Join us at an all-ages family Storytime for songs\, rhymes\, stories\, and more as we shake our sillies out and wiggle our waggles away. Connect with other families and strengthen early literacy skills! Fun for the whole family\, best suited for children 3-12. \nIf you have any questions\, please email us at Sooke@virl.bc.ca.  \nThis is a free\, drop-in program that does not require registration.
URL:https://virl.bc.ca/event/sooke-all-ages-family-storytime/2026-01-17/
LOCATION:British Columbia\, Canada
CATEGORIES:Children,Families
ATTACH;FMTTYPE=image/jpeg:https://virl.bc.ca/wp-content/uploads/2019/01/female-infant-school-teacher-sitting-on-a-chair-936VA5R-e1547230984695.jpg
END:VEVENT
BEGIN:VEVENT
DTSTART;TZID=America/Vancouver:20260117T110000
DTEND;TZID=America/Vancouver:20260117T113000
DTSTAMP:20260421T064705
CREATED:20240828T203640Z
LAST-MODIFIED:20240828T203640Z
UID:194230-1768647600-1768649400@virl.bc.ca
SUMMARY:Family Storytime
DESCRIPTION:Drop by the library and join Librarian Kaitlin every Saturday morning for stories\, songs and rhymes all around a fun a theme! Fun for the whole Family! \nChildren must be accompanied by an adult for the duration of the program.  All ages are welcome!
URL:https://virl.bc.ca/event/family-storytime-10/2026-01-17/
LOCATION:British Columbia\, Canada
CATEGORIES:Children,Families
ATTACH;FMTTYPE=image/jpeg:https://virl.bc.ca/wp-content/uploads/2022/07/kaitlinstory5-002-scaled-e1662747092480.jpg
END:VEVENT
BEGIN:VEVENT
DTSTART;TZID=America/Vancouver:20260117T110000
DTEND;TZID=America/Vancouver:20260117T113000
DTSTAMP:20260421T064705
CREATED:20250906T200244Z
LAST-MODIFIED:20250906T200244Z
UID:186461-1768647600-1768649400@virl.bc.ca
SUMMARY:Storytime at Port Hardy Library
DESCRIPTION:New time!! Join us for storytime every day – Tuesday through Saturday – at 11:00.\nNo need to register in advance\, just stop by. It’s free and everyone is welcome!
URL:https://virl.bc.ca/event/storytime-at-the-port-hardy-library-2/2026-01-17/
LOCATION:In Branch\, British Columbia\, Canada
CATEGORIES:Children,Families
ATTACH;FMTTYPE=image/png:https://virl.bc.ca/wp-content/uploads/2025/08/Screenshot-2025-09-06-125907.png
END:VEVENT
BEGIN:VEVENT
DTSTART;TZID=America/Vancouver:20260117T113000
DTEND;TZID=America/Vancouver:20260117T123000
DTSTAMP:20260421T064705
CREATED:20240917T223145Z
LAST-MODIFIED:20250722T195427Z
UID:181783-1768649400-1768653000@virl.bc.ca
SUMMARY:Sooke Crafts for Kids
DESCRIPTION:Join us Saturdays from 11:30am-12:30pm in our multipurpose room for crafts! This is a free\, drop-in event that does not require registration. Suitable for ages 3-12 years. All ages welcome.
URL:https://virl.bc.ca/event/sooke-crafts-for-kids-2025-09-06/2026-01-17/
LOCATION:British Columbia\, Canada
CATEGORIES:Children,Families
ATTACH;FMTTYPE=image/jpeg:https://virl.bc.ca/wp-content/uploads/2022/07/arts-and-crafts-supplies-e1662748505412.jpg
END:VEVENT
END:VCALENDAR