BEGIN:VCALENDAR
VERSION:2.0
PRODID:-//Vancouver Island Regional Library - ECPv5.16.4//NONSGML v1.0//EN
CALSCALE:GREGORIAN
METHOD:PUBLISH
X-WR-CALNAME:Vancouver Island Regional Library
X-ORIGINAL-URL:https://virl.bc.ca
X-WR-CALDESC:Events for Vancouver Island Regional Library
BEGIN:VTIMEZONE
TZID:America/Vancouver
BEGIN:DAYLIGHT
TZOFFSETFROM:-0800
TZOFFSETTO:-0700
TZNAME:PDT
DTSTART:20260308T100000
END:DAYLIGHT
BEGIN:STANDARD
TZOFFSETFROM:-0700
TZOFFSETTO:-0800
TZNAME:PST
DTSTART:20261101T090000
END:STANDARD
END:VTIMEZONE
BEGIN:VEVENT
DTSTART;TZID=America/Vancouver:20260108T103000
DTEND;TZID=America/Vancouver:20260108T110000
DTSTAMP:20260422T002343
CREATED:20250821T225429Z
LAST-MODIFIED:20251127T213350Z
UID:182700-1767868200-1767870000@virl.bc.ca
SUMMARY:Family Storytime at Nanaimo North
DESCRIPTION:Join us for stories\, songs\, fingerplays\, felt activities and more.  Geared towards children aged 0 – 6 years and their families. \nEvery Thursday at 10:30 AM from January 8 – February 26.
URL:https://virl.bc.ca/event/family-storytime-at-nanaimo-north/2026-01-08/
LOCATION:In Branch\, British Columbia\, Canada
CATEGORIES:Adults,Children,Families
ATTACH;FMTTYPE=image/jpeg:https://virl.bc.ca/wp-content/uploads/2022/09/juliejulie-scaled-e1662746526309.jpg
END:VEVENT
BEGIN:VEVENT
DTSTART;TZID=America/Vancouver:20260108T103000
DTEND;TZID=America/Vancouver:20260108T110000
DTSTAMP:20260422T002343
CREATED:20251003T194023Z
LAST-MODIFIED:20260416T191833Z
UID:188725-1767868200-1767870000@virl.bc.ca
SUMMARY:Babytime
DESCRIPTION:Join us for this fun event for you and your baby! Learn songs\, rhymes\, and bounces that your baby will love and that will encourage their language development. Stay and play afterwards to connect with other families. For babies a year and under and their caregivers.
URL:https://virl.bc.ca/event/babytime-3/2026-01-08/
LOCATION:British Columbia\, Canada
CATEGORIES:Children,Families
ATTACH;FMTTYPE=image/png:https://virl.bc.ca/wp-content/uploads/2019/09/Untitled-design-2019-12-13T143621.943.png
END:VEVENT
BEGIN:VEVENT
DTSTART;TZID=America/Vancouver:20260108T103000
DTEND;TZID=America/Vancouver:20260108T110000
DTSTAMP:20260422T002343
CREATED:20251210T193445Z
LAST-MODIFIED:20251210T193445Z
UID:189988-1767868200-1767870000@virl.bc.ca
SUMMARY:Babytime
DESCRIPTION:Join us for stories\, songs\, and rhymes. No registration required. For children ages 0-2 and their caregivers \n 
URL:https://virl.bc.ca/event/babytime-4/
LOCATION:British Columbia\, Canada
CATEGORIES:Children,Families
ATTACH;FMTTYPE=image/png:https://virl.bc.ca/wp-content/uploads/2019/09/Untitled-design-2019-12-13T143621.943.png
END:VEVENT
BEGIN:VEVENT
DTSTART;TZID=America/Vancouver:20260108T110000
DTEND;TZID=America/Vancouver:20260108T113000
DTSTAMP:20260422T002343
CREATED:20250906T200244Z
LAST-MODIFIED:20250906T200244Z
UID:186454-1767870000-1767871800@virl.bc.ca
SUMMARY:Storytime at Port Hardy Library
DESCRIPTION:New time!! Join us for storytime every day – Tuesday through Saturday – at 11:00.\nNo need to register in advance\, just stop by. It’s free and everyone is welcome!
URL:https://virl.bc.ca/event/storytime-at-the-port-hardy-library-2/2026-01-08/
LOCATION:In Branch\, British Columbia\, Canada
CATEGORIES:Children,Families
ATTACH;FMTTYPE=image/png:https://virl.bc.ca/wp-content/uploads/2025/08/Screenshot-2025-09-06-125907.png
END:VEVENT
BEGIN:VEVENT
DTSTART;TZID=America/Vancouver:20260108T143000
DTEND;TZID=America/Vancouver:20260108T163000
DTSTAMP:20260422T002343
CREATED:20251016T235956Z
LAST-MODIFIED:20251121T183024Z
UID:188794-1767882600-1767889800@virl.bc.ca
SUMMARY:LEGO® Club
DESCRIPTION:Kids\, join us for creative building fun! We provide the LEGO®. \nThis is a free drop-in event. \n  \n  \n 
URL:https://virl.bc.ca/event/lego-club/2026-01-08/
LOCATION:In Branch\, British Columbia\, Canada
CATEGORIES:Children,Families
ATTACH;FMTTYPE=image/jpeg:https://virl.bc.ca/wp-content/uploads/2023/07/ton-lego.jpg
END:VEVENT
BEGIN:VEVENT
DTSTART;TZID=America/Vancouver:20260108T170000
DTEND;TZID=America/Vancouver:20260108T183000
DTSTAMP:20260422T002343
CREATED:20251027T234402Z
LAST-MODIFIED:20260107T232835Z
UID:187547-1767891600-1767897000@virl.bc.ca
SUMMARY:Textile Arts with Vancouver Island Fibreshed
DESCRIPTION:Come together in community with members of Vancouver Island Fibreshed for a monthly\, hands-on exploration of the textile arts. Learn about local fibre production\, sustainable dyeing\, spinning\, weaving\, and the artistry that connects land to cloth. Bring your own project or learn from fibre mentors.\n\n\n\nEach session features demonstrations\, creative projects\, and conversation about the craft and culture of slow textiles.
URL:https://virl.bc.ca/event/textile-arts-with-vancouver-island-fibreshed/2026-01-08/
LOCATION:British Columbia
CATEGORIES:Adults,Community Workshop,Families
ATTACH;FMTTYPE=image/jpeg:https://virl.bc.ca/wp-content/uploads/2025/10/thumbnail_bannerlogo.jpg
END:VEVENT
END:VCALENDAR