BEGIN:VCALENDAR
VERSION:2.0
PRODID:-//Vancouver Island Regional Library - ECPv5.16.4//NONSGML v1.0//EN
CALSCALE:GREGORIAN
METHOD:PUBLISH
X-WR-CALNAME:Vancouver Island Regional Library
X-ORIGINAL-URL:https://virl.bc.ca
X-WR-CALDESC:Events for Vancouver Island Regional Library
BEGIN:VTIMEZONE
TZID:America/Vancouver
BEGIN:DAYLIGHT
TZOFFSETFROM:-0800
TZOFFSETTO:-0700
TZNAME:PDT
DTSTART:20260308T100000
END:DAYLIGHT
BEGIN:STANDARD
TZOFFSETFROM:-0700
TZOFFSETTO:-0800
TZNAME:PST
DTSTART:20261101T090000
END:STANDARD
END:VTIMEZONE
BEGIN:VEVENT
DTSTART;VALUE=DATE:20260401
DTEND;VALUE=DATE:20260501
DTSTAMP:20260419T052108
CREATED:20260328T224947Z
LAST-MODIFIED:20260401T181640Z
UID:198480-1775001600-1777593599@virl.bc.ca
SUMMARY:Spring Scavenger Hunt
DESCRIPTION:Looking for something fun to do?\nCheck out our scavenger hunt! Search the library for the hidden images and solve the riddle to be entered into a prize draw! Check back often for a new theme!
URL:https://virl.bc.ca/event/spring-scavenger-hunt/
LOCATION:In Branch\, British Columbia\, Canada
CATEGORIES:Children
ATTACH;FMTTYPE=image/png:https://virl.bc.ca/wp-content/uploads/2026/03/6-e1774989193632.png
END:VEVENT
BEGIN:VEVENT
DTSTART;VALUE=DATE:20260409
DTEND;VALUE=DATE:20260410
DTSTAMP:20260419T052108
CREATED:20250224T175717Z
LAST-MODIFIED:20250425T185800Z
UID:175960-1775692800-1775779199@virl.bc.ca
SUMMARY:Woss Library Puzzle Table
DESCRIPTION:Looking for something to do in Woss? Stop by the library and help us complete our puzzle! While you’re here\, take advantage of our FREE membership\, use the public computers\, or simply relax in a comfy chair with a book or magazine. There’s so much to enjoy at the library\, and it’s all FREE! \nQuestions? Call us at 250.281.2265 or visit the library.
URL:https://virl.bc.ca/event/woss-library-puzzle-table-2025-03-09-2026-04-09/
LOCATION:British Columbia\, Canada
CATEGORIES:Everyone
END:VEVENT
BEGIN:VEVENT
DTSTART;VALUE=DATE:20260409
DTEND;VALUE=DATE:20260410
DTSTAMP:20260419T052108
CREATED:20250224T175717Z
LAST-MODIFIED:20250224T175717Z
UID:196465-1775692800-1775779199@virl.bc.ca
SUMMARY:Puzzle Time
DESCRIPTION:Feeling puzzled? Join us at the library for Puzzle Time. Work on our puzzle\, or take one home with you. Enjoy our FREE perks\, use the public computers\, or relax in a comfy chair with a book or magazine. There’s so much to enjoy at the library\, and it’s all FREE! \nQuestions? Call us at 250.281.2263 or visit the library.
URL:https://virl.bc.ca/event/woss-library-puzzle-table/2026-04-09/
LOCATION:British Columbia\, Canada
CATEGORIES:Everyone
ATTACH;FMTTYPE=image/jpeg:https://virl.bc.ca/wp-content/uploads/2025/02/puzzle-heart.jpg
END:VEVENT
BEGIN:VEVENT
DTSTART;VALUE=DATE:20260409
DTEND;VALUE=DATE:20260410
DTSTAMP:20260419T052108
CREATED:20260110T001927Z
LAST-MODIFIED:20260110T001927Z
UID:192102-1775692800-1775779199@virl.bc.ca
SUMMARY:Tea Thursday
DESCRIPTION:Enjoy a cup of tea on us all day at the library while you browse and gather  🙂
URL:https://virl.bc.ca/event/tea-thursday/2026-04-09/
LOCATION:British Columbia\, Canada
CATEGORIES:Adults,Seniors,Teens
ATTACH;FMTTYPE=image/jpeg:https://virl.bc.ca/wp-content/uploads/2018/10/Untitled-design-20-e1543878195622.jpg
END:VEVENT
BEGIN:VEVENT
DTSTART;VALUE=DATE:20260409
DTEND;VALUE=DATE:20260410
DTSTAMP:20260419T052108
CREATED:20260326T221819Z
LAST-MODIFIED:20260410T153430Z
UID:197904-1775692800-1775779199@virl.bc.ca
SUMMARY:Port Hardy Library Adventure Card
DESCRIPTION:Ahoy matey! Shiver me timbers! Treasures await you at the library! \nKids can pick up a Library Adventure Card\, then get a stamp for each adventure they have at the library. A full card of 10 adventures unlocks the Treasure Chest! Plus the full card goes into a draw for a later treasure. \nLibrary adventures include getting a library card\, borrowing a book\, telling library staff about a book they enjoyed\, do a craft… and more! \nAaaargh! The Adventure Card is available during all open hours.
URL:https://virl.bc.ca/event/port-hardy-library-adventure-card/2026-04-09/
LOCATION:British Columbia\, Canada
CATEGORIES:Children,Families
ATTACH;FMTTYPE=image/jpeg:https://virl.bc.ca/wp-content/uploads/2026/04/HA-treasure-map-clip.jpg
END:VEVENT
BEGIN:VEVENT
DTSTART;TZID=America/Vancouver:20260409T100000
DTEND;TZID=America/Vancouver:20260409T120000
DTSTAMP:20260419T052108
CREATED:20220529T223340Z
LAST-MODIFIED:20220529T223340Z
UID:175952-1775728800-1775736000@virl.bc.ca
SUMMARY:Chemainus Textile Circle
DESCRIPTION:Drop by and sit in with the Chemainus Textile Circle   \nMeets Thursdays from 10:00 to Noon in the library’s Multi-Purpose Room. \nKnitters\, Crocheters\, Spinners \, Embroiderers welcome!
URL:https://virl.bc.ca/event/chemainus-knitting-circle/2026-04-09/
LOCATION:In Branch\, British Columbia\, Canada
CATEGORIES:Adults,Everyone
ATTACH;FMTTYPE=image/jpeg:https://virl.bc.ca/wp-content/uploads/2018/11/at-knitting-lesson-PVX7ELS-e1543364240345.jpg
END:VEVENT
BEGIN:VEVENT
DTSTART;TZID=America/Vancouver:20260409T100000
DTEND;TZID=America/Vancouver:20260409T130000
DTSTAMP:20260419T052108
CREATED:20260402T174202Z
LAST-MODIFIED:20260402T181325Z
UID:199215-1775728800-1775739600@virl.bc.ca
SUMMARY:Book a Librarian
DESCRIPTION:Not sure where to start? Ask a librarian. \nBook a 30-minute appointment with our Adult Services Librarian and we can work together on your questions—whether you’re exploring a research topic\, looking for your next great read\, using library resources\, or getting help with tech. \nEmail: bdriedger@virl.bc.ca\, or use the booking link to reserve your 30 minute appointment: \nBook a Librarian – Campbell River
URL:https://virl.bc.ca/event/book-a-librarian-3/2026-04-09/
LOCATION:Campbell River Library\, Canada
CATEGORIES:Adults,Everyone,Seniors
ATTACH;FMTTYPE=image/jpeg:https://virl.bc.ca/wp-content/uploads/2026/03/kazuend-DHk_mju83z0-unsplash-scaled-e1774989243354.jpg
END:VEVENT
BEGIN:VEVENT
DTSTART;TZID=America/Vancouver:20260409T103000
DTEND;TZID=America/Vancouver:20260409T110000
DTSTAMP:20260419T052108
CREATED:20251003T194023Z
LAST-MODIFIED:20260416T191839Z
UID:188738-1775730600-1775732400@virl.bc.ca
SUMMARY:Babytime
DESCRIPTION:Join us for this fun event for you and your baby! Learn songs\, rhymes\, and bounces that your baby will love and that will encourage their language development. Stay and play afterwards to connect with other families. For babies a year and under and their caregivers.
URL:https://virl.bc.ca/event/babytime-3/2026-04-09/
LOCATION:British Columbia\, Canada
CATEGORIES:Children,Families
ATTACH;FMTTYPE=image/png:https://virl.bc.ca/wp-content/uploads/2019/09/Untitled-design-2019-12-13T143621.943.png
END:VEVENT
BEGIN:VEVENT
DTSTART;TZID=America/Vancouver:20260409T103000
DTEND;TZID=America/Vancouver:20260409T110000
DTSTAMP:20260419T052108
CREATED:20260219T213407Z
LAST-MODIFIED:20260219T213705Z
UID:195775-1775730600-1775732400@virl.bc.ca
SUMMARY:Family Storytime at Nanaimo North
DESCRIPTION:Join us for stories\, songs\, fingerplays\, felt activities and more.  Geared towards children aged 0 – 6 years and their families. \nEvery Thursday at 10:30 AM from April 9 – May 28.
URL:https://virl.bc.ca/event/family-storytime-at-nanaimo-north-2/2026-04-09/
LOCATION:In Branch\, British Columbia\, Canada
CATEGORIES:Adults,Children,Families
ATTACH;FMTTYPE=image/jpeg:https://virl.bc.ca/wp-content/uploads/2022/09/juliejulie-scaled-e1662746526309.jpg
END:VEVENT
BEGIN:VEVENT
DTSTART;TZID=America/Vancouver:20260409T103000
DTEND;TZID=America/Vancouver:20260409T110000
DTSTAMP:20260419T052108
CREATED:20260328T171114Z
LAST-MODIFIED:20260328T171114Z
UID:198408-1775730600-1775732400@virl.bc.ca
SUMMARY:Babytime
DESCRIPTION:Join us for stories\, songs\, and rhymes. No registration required. For children ages 0-18 months and their caregivers
URL:https://virl.bc.ca/event/babytime-5/2026-04-09/
LOCATION:British Columbia\, Canada
CATEGORIES:Children,Families
ATTACH;FMTTYPE=image/png:https://virl.bc.ca/wp-content/uploads/2019/09/Untitled-design-2019-12-13T143621.943.png
END:VEVENT
BEGIN:VEVENT
DTSTART;TZID=America/Vancouver:20260409T103000
DTEND;TZID=America/Vancouver:20260409T110000
DTSTAMP:20260419T052108
CREATED:20260402T180351Z
LAST-MODIFIED:20260402T180351Z
UID:199236-1775730600-1775732400@virl.bc.ca
SUMMARY:Storytime!
DESCRIPTION:Join librarian Renée for 30 minutes of live-action storytime fun. \nWe’ll move our bodies\, wave our scarves\, sing songs\, learn rhymes\, and read a book or two! \nStay afterwards for our Open Playroom to meet and play with other families. \nThis is a drop-in program for toddlers\, preschoolers\, and their caregivers.
URL:https://virl.bc.ca/event/storytime/
LOCATION:British Columbia\, Canada
CATEGORIES:Children,Families
ORGANIZER;CN="Renee%20Gaudet":MAILTO:rgaudet@virl.bc.ca
END:VEVENT
BEGIN:VEVENT
DTSTART;TZID=America/Vancouver:20260409T103000
DTEND;TZID=America/Vancouver:20260409T110000
DTSTAMP:20260419T052108
CREATED:20260409T234104Z
LAST-MODIFIED:20260409T234329Z
UID:199804-1775730600-1775732400@virl.bc.ca
SUMMARY:Family Storytime
DESCRIPTION:Join us for songs\, stories and fun with your little ones. This is a free family drop-in program for babies\, toddlers\, preschoolers\, and their caregivers. Ages 0-5. \nReading and singing are two of the most important activities for building early literacy and language skills\, and we will practice lots of both! Creating an early positive association with books by reading together (or in a fun environment like Storytime!) can help foster a lifelong love of reading.  Rhymes and singing help young developing brains break apart language and make sense of it. Storytime also provides socialization opportunities for both little ones as well as adult caregivers looking to make connections in the community. All around it’s a good time!
URL:https://virl.bc.ca/event/family-storytime-4/2026-04-09/
LOCATION:British Columbia
CATEGORIES:Children,Families
ATTACH;FMTTYPE=image/png:https://virl.bc.ca/wp-content/uploads/2019/06/2019-03-26-09_20_05-HAP_2580-_-©-2015-HA-Photography-_-Vancouver-Island-Regional-Library-_-Flickr.png
END:VEVENT
BEGIN:VEVENT
DTSTART;TZID=America/Vancouver:20260409T110000
DTEND;TZID=America/Vancouver:20260409T113000
DTSTAMP:20260419T052108
CREATED:20250906T200244Z
LAST-MODIFIED:20250906T200244Z
UID:186519-1775732400-1775734200@virl.bc.ca
SUMMARY:Storytime at Port Hardy Library
DESCRIPTION:New time!! Join us for storytime every day – Tuesday through Saturday – at 11:00.\nNo need to register in advance\, just stop by. It’s free and everyone is welcome!
URL:https://virl.bc.ca/event/storytime-at-the-port-hardy-library-2/2026-04-09/
LOCATION:In Branch\, British Columbia\, Canada
CATEGORIES:Children,Families
ATTACH;FMTTYPE=image/png:https://virl.bc.ca/wp-content/uploads/2025/08/Screenshot-2025-09-06-125907.png
END:VEVENT
BEGIN:VEVENT
DTSTART;TZID=America/Vancouver:20260409T110000
DTEND;TZID=America/Vancouver:20260409T120000
DTSTAMP:20260419T052108
CREATED:20260402T182038Z
LAST-MODIFIED:20260402T182151Z
UID:199246-1775732400-1775736000@virl.bc.ca
SUMMARY:Open Playroom
DESCRIPTION:After Storytime\, stick around and play! \nEnjoy our array of toys\, meet and play with other families! \nThis is a drop-in\, free-range\, self-directed playtime for younger children and their caregivers.
URL:https://virl.bc.ca/event/open-playroom-2/2026-04-09/
LOCATION:Campbell River Library\, Canada
CATEGORIES:Children,Families
ORGANIZER;CN="Renee%20Gaudet":MAILTO:rgaudet@virl.bc.ca
END:VEVENT
BEGIN:VEVENT
DTSTART;TZID=America/Vancouver:20260409T130000
DTEND;TZID=America/Vancouver:20260409T150000
DTSTAMP:20260419T052108
CREATED:20221103T021537Z
LAST-MODIFIED:20221103T021537Z
UID:175953-1775739600-1775746800@virl.bc.ca
SUMMARY:The Knit Wits (Bowser textile group)
DESCRIPTION:Visit Bowser Library and be a Knit Wit! 🙂 \nJoin us at 1:00 each Thursday to sit\, chat\, and get a little work done on your textile projects.
URL:https://virl.bc.ca/event/the-knit-wits-bowser-textile-group/2026-04-09/
LOCATION:In Branch\, British Columbia\, Canada
CATEGORIES:Adults,Everyone
ATTACH;FMTTYPE=image/jpeg:https://virl.bc.ca/wp-content/uploads/2019/06/imani-_TuIdedBPwQ-unsplash-e1676576545442.jpg
END:VEVENT
BEGIN:VEVENT
DTSTART;TZID=America/Vancouver:20260409T143000
DTEND;TZID=America/Vancouver:20260409T163000
DTSTAMP:20260419T052108
CREATED:20251016T235956Z
LAST-MODIFIED:20251121T183029Z
UID:188807-1775745000-1775752200@virl.bc.ca
SUMMARY:LEGO® Club
DESCRIPTION:Kids\, join us for creative building fun! We provide the LEGO®. \nThis is a free drop-in event. \n  \n  \n 
URL:https://virl.bc.ca/event/lego-club/2026-04-09/
LOCATION:In Branch\, British Columbia\, Canada
CATEGORIES:Children,Families
ATTACH;FMTTYPE=image/jpeg:https://virl.bc.ca/wp-content/uploads/2023/07/ton-lego.jpg
END:VEVENT
BEGIN:VEVENT
DTSTART;TZID=America/Vancouver:20260409T150000
DTEND;TZID=America/Vancouver:20260409T170000
DTSTAMP:20260419T052108
CREATED:20260121T003449Z
LAST-MODIFIED:20260407T224201Z
UID:199472-1775746800-1775754000@virl.bc.ca
SUMMARY:Needlecraft Circle
DESCRIPTION:Do you love embroidery\, knitting or crocheting? How about beading or other needlecraft? Join our needlecraft circle every Thursday at 3 pm for help\, inspiration and friendship!
URL:https://virl.bc.ca/event/needlecraft-circle/2026-04-09/
LOCATION:British Columbia\, Canada
CATEGORIES:Adults,Seniors,Teens
ATTACH;FMTTYPE=image/jpeg:https://virl.bc.ca/wp-content/uploads/2026/01/needle-and-thread-e1769017334378.jpg
END:VEVENT
BEGIN:VEVENT
DTSTART;TZID=America/Vancouver:20260409T153000
DTEND;TZID=America/Vancouver:20260409T170000
DTSTAMP:20260419T052108
CREATED:20250904T180256Z
LAST-MODIFIED:20250904T180256Z
UID:194214-1775748600-1775754000@virl.bc.ca
SUMMARY:Dumbledore's Army
DESCRIPTION:Join us at the library once a month for magical themes crafts\, activities and more with fellow Wizarding World fans! \nThis program is for returning members or those who have completed the entire series. This session runs from September-June and registration is required \nAges 9+ \nPlease email kparker@virl.bc.ca to register!
URL:https://virl.bc.ca/event/dumbledores-army-2/2026-04-09/
LOCATION:British Columbia\, Canada
CATEGORIES:Children,Tweens
ATTACH;FMTTYPE=image/png:https://virl.bc.ca/wp-content/uploads/2018/12/Untitled-design.png
END:VEVENT
BEGIN:VEVENT
DTSTART;TZID=America/Vancouver:20260409T153000
DTEND;TZID=America/Vancouver:20260409T163000
DTSTAMP:20260419T052108
CREATED:20260102T190319Z
LAST-MODIFIED:20260401T191824Z
UID:191681-1775748600-1775752200@virl.bc.ca
SUMMARY:Reading Buddies
DESCRIPTION:Children in Kindergarten to Grade 4 are invited to practice their reading by signing up for a one hour session with one of the library’s teen volunteers.  Sessions include one-on-one reading time as well as fun literacy-related games and activities. \nJANUARY/FEBRUARY SCHEDULE: \nThursdays 3:30 – 4:30 PM \nFriday  3 – 4 PM \nAdvanced registration required.  Reserve a spot today by phoning or emailing the branch:  250-933-2665 / NanaimoNorth@virl.bc.ca \nReading Buddies is a reading program where children are paired up with a TAG (Teen Advisory Group) volunteer for one-on-one reading sessions in a safe\, fun and friendly environment.  Reading Buddies is not a tutoring program; teen volunteers do not teach children how to read.  Instead\, children develop reading skills by connecting with a big buddy who can show them how much fun reading can be. 
URL:https://virl.bc.ca/event/reading-buddies-2/2026-04-09/
LOCATION:In Branch\, British Columbia\, Canada
CATEGORIES:Children
ATTACH;FMTTYPE=image/jpeg:https://virl.bc.ca/wp-content/uploads/2022/03/reading-buddies-photo-scaled-e1689286434834.jpg
END:VEVENT
BEGIN:VEVENT
DTSTART;TZID=America/Vancouver:20260409T160000
DTEND;TZID=America/Vancouver:20260409T190000
DTSTAMP:20260419T052108
CREATED:20250924T234241Z
LAST-MODIFIED:20250924T234241Z
UID:185745-1775750400-1775761200@virl.bc.ca
SUMMARY:Table Top Games
DESCRIPTION:It’s your turn! Drop-in for tabletop game play; bring your own game and meet fellow board and card game enthusiasts. Thursday evenings from 4-7pm.
URL:https://virl.bc.ca/event/table-top-games/2026-04-09/
LOCATION:Masset Library\, 1700 Hodges Avenue\, Masset\, British Columbia\, V0T 1M0\, Canada
CATEGORIES:Adults,Seniors,Teens,Teens & Tweens
ATTACH;FMTTYPE=image/png:https://virl.bc.ca/wp-content/uploads/2019/10/Untitled-design-2020-02-19T095632.273.png
ORGANIZER;CN="Etchi%20Zaleski":MAILTO:jzaleski@virl.bc.ca
END:VEVENT
BEGIN:VEVENT
DTSTART;TZID=America/Vancouver:20260409T160000
DTEND;TZID=America/Vancouver:20260409T190000
DTSTAMP:20260419T052108
CREATED:20251210T192506Z
LAST-MODIFIED:20251210T205504Z
UID:190158-1775750400-1775761200@virl.bc.ca
SUMMARY:Tabletop Game Night
DESCRIPTION:It’s your turn\, so drop in and play! The library has reserved space each week for drop-in tabletop game play: come as a group\, come by yourself\, BYOG (Bring Your Own Game)\, meet fellow board and card game enthusiasts. \nAll ages are welcome.
URL:https://virl.bc.ca/event/tabletop-game-night/2026-04-09/
LOCATION:British Columbia\, Canada
CATEGORIES:Everyone
ATTACH;FMTTYPE=image/jpeg:https://virl.bc.ca/wp-content/uploads/2025/10/BoardGames.jpg
END:VEVENT
BEGIN:VEVENT
DTSTART;TZID=America/Vancouver:20260409T170000
DTEND;TZID=America/Vancouver:20260409T183000
DTSTAMP:20260419T052108
CREATED:20251027T234402Z
LAST-MODIFIED:20251027T234402Z
UID:191841-1775754000-1775759400@virl.bc.ca
SUMMARY:Textile Arts with Vancouver Island Fibreshed
DESCRIPTION:Come together in community with members of Vancouver Island Fibreshed for a monthly\, hands-on exploration of the textile arts. Learn about local fibre production\, sustainable dyeing\, spinning\, weaving\, and the artistry that connects land to cloth. Bring your own project or learn from fibre mentors.\n\n\n\nEach session features demonstrations\, creative projects\, and conversation about the craft and culture of slow textiles.
URL:https://virl.bc.ca/event/textile-arts-with-vancouver-island-fibreshed/2026-04-09/
LOCATION:British Columbia
CATEGORIES:Adults,Community Workshop,Families
ATTACH;FMTTYPE=image/jpeg:https://virl.bc.ca/wp-content/uploads/2025/10/thumbnail_bannerlogo.jpg
END:VEVENT
BEGIN:VEVENT
DTSTART;TZID=America/Vancouver:20260409T170000
DTEND;TZID=America/Vancouver:20260409T183000
DTSTAMP:20260419T052108
CREATED:20260205T000706Z
LAST-MODIFIED:20260205T000706Z
UID:194641-1775754000-1775759400@virl.bc.ca
SUMMARY:Artist Trading Card Drop-in
DESCRIPTION:Join the Artist Trading Card movement! Create\, swap\, and collect art with other artists.  Materials are provided\, and all are welcome. \nATC Drop-ins are held every week on Thursdays from 5-6:30 pm. \n\nArtist trading cards (ATCs) are self-made unique works or small series\, signed and dated on the reverse by the artist/producer\, exchanged and collected by the people who participate in the collaboration.
URL:https://virl.bc.ca/event/artist-trading-card-drop-in/2026-04-09/
LOCATION:British Columbia
CATEGORIES:Adults,Seniors,Teens
ATTACH;FMTTYPE=image/jpeg:https://virl.bc.ca/wp-content/uploads/2026/02/ATC-scaled-e1770254923906.jpeg
END:VEVENT
BEGIN:VEVENT
DTSTART;TZID=America/Vancouver:20260409T173000
DTEND;TZID=America/Vancouver:20260409T183000
DTSTAMP:20260419T052108
CREATED:20220913T205436Z
LAST-MODIFIED:20220913T205436Z
UID:188083-1775755800-1775759400@virl.bc.ca
SUMMARY:Intermediate Conversational Spanish
DESCRIPTION:Join us to practice speaking Spanish in a casual setting! \nOn Thursdays\, 5:30-6:30pm\, we sit and chat en español en la biblioteca. Intermediate level.
URL:https://virl.bc.ca/event/conversational-spanish/2026-04-09/
LOCATION:British Columbia\, Canada
CATEGORIES:Adults,Seniors,Teens
ATTACH;FMTTYPE=image/jpeg:https://virl.bc.ca/wp-content/uploads/2022/08/Untitled-design2-e1662052030749.jpg
END:VEVENT
BEGIN:VEVENT
DTSTART;TZID=America/Vancouver:20260409T173000
DTEND;TZID=America/Vancouver:20260409T190000
DTSTAMP:20260419T052108
CREATED:20221219T002717Z
LAST-MODIFIED:20221219T002717Z
UID:195573-1775755800-1775761200@virl.bc.ca
SUMMARY:Writers Support Group
DESCRIPTION:Develop your writing in a supportive environment in this member-led group.  Share your writing with other writers for encouragement and feedback.  We welcome writers of all genres and experience.  Drop-in.
URL:https://virl.bc.ca/event/writers-support-group-2/2026-04-09/
LOCATION:Sidney / North Saanich Library\, 10091 Resthaven Dr.\, Sidney\, British Columbia\, V8L 3G3\, Canada
CATEGORIES:Adults,Teens
ATTACH;FMTTYPE=image/jpeg:https://virl.bc.ca/wp-content/uploads/2019/01/vintage-typewriter-machine-on-writers-desk-6YNEZT5-e1547773474185.jpg
END:VEVENT
BEGIN:VEVENT
DTSTART;TZID=America/Vancouver:20260409T173000
DTEND;TZID=America/Vancouver:20260409T184500
DTSTAMP:20260419T052108
CREATED:20240828T175318Z
LAST-MODIFIED:20240828T175318Z
UID:197855-1775755800-1775760300@virl.bc.ca
SUMMARY:Patrick Aleck's Community Drum Circle
DESCRIPTION:Patrick Aleck returns to Nanaimo Harbourfront Branch to lead the library’s Community Drum Circle \nEveryone is welcome to share in Indigenous drumming\, song\, language\, and culture. \nBring your drum or use one from the Library’s drum collection. \nNo registration required:  This event is Drop-in and family-friendly. Bring the kids! \n \nPatrick Aleck Jr. is a Stz’uminus and Penelakut Knowledge Keeper and a published author and recording artist.
URL:https://virl.bc.ca/event/community-indigenous-drum-circle/2026-04-09/
LOCATION:British Columbia\, Canada
CATEGORIES:Everyone
ATTACH;FMTTYPE=image/png:https://virl.bc.ca/wp-content/uploads/2019/12/Untitled-design-2019-12-05T094407.637.png
END:VEVENT
BEGIN:VEVENT
DTSTART;TZID=America/Vancouver:20260409T173000
DTEND;TZID=America/Vancouver:20260409T190000
DTSTAMP:20260419T052108
CREATED:20260112T181251Z
LAST-MODIFIED:20260112T181251Z
UID:192559-1775755800-1775761200@virl.bc.ca
SUMMARY:Mindfulness Book Club
DESCRIPTION:This is a free\, open community-room booking. Please contact the organiser to register for the program. \nJoin Amanda for a discussion group to ponder life’s big questions. The purpose of this group is to explore mindfulness and spirituality beyond any one religious doctrine. Each month we will select a different book and discuss its ideas and concepts. \nPlease reach out to Amanda for the book of the month. All books read are available from the library. If a book is checked out\, please contact Amanda to discuss alternatives: \nContact & Registration: amanda.csln@gmail.com
URL:https://virl.bc.ca/event/mindfulness-book-club/2026-04-09/
LOCATION:British Columbia
CATEGORIES:Adults
ATTACH;FMTTYPE=image/jpeg:https://virl.bc.ca/wp-content/uploads/2026/01/Mindfulness-book-club-e1768432098927.jpg
END:VEVENT
BEGIN:VEVENT
DTSTART;TZID=America/Vancouver:20260409T180000
DTEND;TZID=America/Vancouver:20260409T190000
DTSTAMP:20260419T052108
CREATED:20230207T212230Z
LAST-MODIFIED:20230207T212230Z
UID:175954-1775757600-1775761200@virl.bc.ca
SUMMARY:Port Alice Board Game Night
DESCRIPTION:Every Thursday evening is Board Game Night at Port Alice Library. We have cards\, Clue\, Mahjong and more! Play one of ours or bring your own favorites. \nBring a friend or make some new ones. We have nice big tables and lots of great seating\, so put on your game face and come out and play! \nNo registration needed and all are welcome.
URL:https://virl.bc.ca/event/board-game-night-3/2026-04-09/
LOCATION:In Branch\, British Columbia\, Canada
CATEGORIES:Everyone
ATTACH;FMTTYPE=image/jpeg:https://virl.bc.ca/wp-content/uploads/2018/11/Games_Night-e1674155048576.jpg
END:VEVENT
BEGIN:VEVENT
DTSTART;TZID=America/Vancouver:20260409T180000
DTEND;TZID=America/Vancouver:20260409T190000
DTSTAMP:20260419T052108
CREATED:20260110T004547Z
LAST-MODIFIED:20260110T004547Z
UID:192185-1775757600-1775761200@virl.bc.ca
SUMMARY:Tech Help
DESCRIPTION:Drop in for Tech Help every other Thursday and staff will help you navigate your tech problems!
URL:https://virl.bc.ca/event/tech-help-2/2026-04-09/
LOCATION:Port Clements Library\, 36 Cedar Avenue West\, Port Clements\, British Columbia\, V0T 1R0\, Canada
CATEGORIES:Everyone
ATTACH;FMTTYPE=image/jpeg:https://virl.bc.ca/wp-content/uploads/2022/05/stock-gd4a2ffebd_1920-e1690487951326.jpg
ORGANIZER;CN="Veronika%20Higlister":MAILTO:vhiglister@virl.bc.ca
END:VEVENT
BEGIN:VEVENT
DTSTART;TZID=America/Vancouver:20260409T183000
DTEND;TZID=America/Vancouver:20260409T193000
DTSTAMP:20260419T052108
CREATED:20260305T205833Z
LAST-MODIFIED:20260305T205833Z
UID:196324-1775759400-1775763000@virl.bc.ca
SUMMARY:An Evening of Poetry with Susan Musgrave and Angela Long
DESCRIPTION:Join us at the Masset Library as Susan Musgrave and Angela Long read poems about everything from cups of tea to whale vertebrae to Italian pergolas.  This event is made possible with support from the Canada Council for the Arts for funding through the Writers’ Union of Canada.
URL:https://virl.bc.ca/event/an-evening-of-poetry-with-susan-musgrave-and-angela-long/
LOCATION:Masset Library\, 1700 Hodges Avenue\, Masset\, British Columbia\, V0T 1M0\, Canada
CATEGORIES:Adults,Seniors,Teens
ATTACH;FMTTYPE=image/png:https://virl.bc.ca/wp-content/uploads/2026/03/An-Evening-of-Poetry-with-Susan-Musgrave-and-Angela-Long-1-e1773851999832.png
ORGANIZER;CN="Etchi%20Zaleski":MAILTO:jzaleski@virl.bc.ca
END:VEVENT
END:VCALENDAR