BEGIN:VCALENDAR
VERSION:2.0
PRODID:-//Vancouver Island Regional Library - ECPv5.16.4//NONSGML v1.0//EN
CALSCALE:GREGORIAN
METHOD:PUBLISH
X-WR-CALNAME:Vancouver Island Regional Library
X-ORIGINAL-URL:https://virl.bc.ca
X-WR-CALDESC:Events for Vancouver Island Regional Library
BEGIN:VTIMEZONE
TZID:America/Vancouver
BEGIN:DAYLIGHT
TZOFFSETFROM:-0800
TZOFFSETTO:-0700
TZNAME:PDT
DTSTART:20230312T100000
END:DAYLIGHT
BEGIN:STANDARD
TZOFFSETFROM:-0700
TZOFFSETTO:-0800
TZNAME:PST
DTSTART:20231105T090000
END:STANDARD
END:VTIMEZONE
BEGIN:VEVENT
DTSTART;TZID=America/Vancouver:20230920T153000
DTEND;TZID=America/Vancouver:20230920T163000
DTSTAMP:20260420T172318
CREATED:20230202T024430Z
LAST-MODIFIED:20250828T011542Z
UID:123298-1695223800-1695227400@virl.bc.ca
SUMMARY:Nintendo Switch Gaming - for tweens & teens
DESCRIPTION:Tweens and Teens are invited to drop by the Nanaimo North Library between 3:30 – 4:30 PM for some Nintendo Switch fun on our big screen tv. \nAges 10-18 years.  Third Wednesday of every month.
URL:https://virl.bc.ca/event/nintendo-switch-gaming/2023-09-20/
LOCATION:In Branch\, British Columbia\, Canada
CATEGORIES:Teens,Teens & Tweens,Tweens
ATTACH;FMTTYPE=image/png:https://virl.bc.ca/wp-content/uploads/2019/10/Nintendo-Switch-1-e1572550869371.png
END:VEVENT
END:VCALENDAR